Workbook

Sheet 37211
A2: _x000c_
A6: --------- | B6: --- | C6: -------------------------- | D6: ----------------------------------------------- | E6: ------- | F6: ----- | G6: --- | H6: ----- | I6: --- | J6: ---- | K6: ---- | L6: --- | M6: ---- | N6: ---------------------------
A7: ROLL F | B7: S | C7: NAME OF CANDIDATE | D7: {=--------------------S} -> #NAME? | E7: UBJECTS | F7: ----- | G7: --- | H7: ----- | I7: --- | J7: -- | K7: INT- | L7: SB- | M7: GRD | N7: RES COMP
A8: NO L | B8: X | D8: SUB CD SUB CD SUB C | E8: D SUB | F8: CD S | G8: UB | H8: CD S | I8: UB | J8: CD | K8: GR1 | L8: GR2 | M8: GR3 | N8: SUB
D9: MKS GR MKS GR MKS G | E9: R MKS | F9: GR M | G9: KS | H9: GR M | I9: KS | J9: GR
A10: --------- | B10: --- | C10: -------------------------- | D10: ----------------------------------------------- | E10: ------- | F10: ----- | G10: --- | H10: ----- | I10: --- | J10: ---- | K10: ---- | L10: --- | M10: ---- | N10: ---------------------------
A12: SCHOOL : | B12: -3 | C12: 7211 PM SHRI CHANDRALAL | D12: SHARMA GOVT SR SEC SCH CHUJACHEN EAST SM
A14: 16644486 | B14: M | C14: AMARSAN RAI | D14: 301 124 048 | E14: 42 | G14: 044 | I14: 043 | K14: B1 | L14: B1 | M14: B1 | N14: COMP 042 043
D15: 075 C1 071 B2 074 | E15: C1 033 | F15: E | G15: 048 | H15: D2 | I15: 032 | J15: E
A16: 16644487 | B16: F | C16: AMBIKA SHARMA | D16: 301 124 043 | E16: 48 | G16: 044 | I16: 042 | K16: B1 | L16: B1 | M16: B1 | N16: COMP 043 042
D17: 079 B2 076 B1 040 | E17: E 078 | F17: C1 | G17: 050 | H17: D2 | I17: 035 | J17: E
A18: 16644488 | B18: M | C18: AMRIT MANGER | D18: 301 124 043 | E18: 42 | G18: 044 | I18: 048 | K18: B1 | L18: B1 | M18: B1 | N18: PASS
D19: 077 C1 073 B1 048 | E19: D2 049 | F19: D2 | G19: 064 | H19: C2 | I19: 079 | J19: B2
A20: 16644489 | B20: F | C20: ANUSHKA RAI | D20: 301 124 043 | E20: 42 | G20: 044 | I20: 048 | K20: B1 | L20: B1 | M20: B1 | N20: ESSENTIAL REPEAT
D21: 081 B2 081 A2 031 | E21: E 032 | F21: E | G21: 036 | H21: E | I21: 058 | J21: D2
A22: 16644490 | B22: F | C22: DEEPIKA GURUNG | D22: 301 124 043 | E22: 42 | G22: 044 | I22: 048 | K22: B1 | L22: B1 | M22: B1 | N22: ESSENTIAL REPEAT
D23: 069 C2 078 A2 036 | E23: E 030 | F23: E | G23: 038 | H23: E | I23: 066 | J23: D1
A24: 16644491 | B24: F | C24: DIKCHIKA GURUNG | D24: 301 124 048 | E24: 42 | G24: 044 | I24: 043 | K24: B1 | L24: B1 | M24: B1 | N24: COMP 042 043
D25: 057 D1 078 A2 078 | E25: C1 037 | F25: E | G25: 048 | H25: D2 | I25: 037 | J25: E
A27: 16644492 | B27: F | C27: ESMEHA RAI | D27: 301 124 043 | E27: 48 | G27: 044 | I27: 042 | K27: B1 | L27: B1 | M27: B1 | N27: COMP 043 042
D28: 080 B2 061 C2 036 | E28: E 063 | F28: D1 | G28: 051 | H28: D2 | I28: 034 | J28: E
A29: 16644493 | B29: F | C29: JAYA RAI | D29: 301 124 043 | E29: 48 | G29: 044 | I29: 042 | K29: B1 | L29: B1 | M29: B1 | N29: COMP 043 042
D30: 075 C1 089 A1 039 | E30: E 072 | F30: C2 | G30: 070 | H30: C1 | I30: 034 | J30: E
A31: 16644494 | B31: M | C31: KARMA LODEY BHUTIA | D31: 301 124 043 | E31: 48 | G31: 041 | I31: 042 | K31: B1 | L31: B1 | M31: B1 | N31: PASS
D32: 069 C2 074 B1 049 | E32: D2 070 | F32: C2 | G32: 053 | H32: C2 | I32: 041 | J32: E
A33: 16644495 | B33: F | C33: KUNZONG LEPCHA | D33: 301 126 048 | E33: 42 | G33: 044 | I33: 043 | K33: B2 | L33: B2 | M33: B2 | N33: PASS
D34: 075 C1 084 B2 068 | E34: C2 055 | F34: C2 | G34: 069 | H34: C1 | I34: 041 | J34: E
A35: 16644496 | B35: M | C35: MENLOM LEPCHA | D35: 301 124 043 | E35: 48 | G35: 041 | I35: 042 | K35: B1 | L35: A2 | M35: A2 | N35: COMP 043 042
D36: 077 C1 067 C1 038 | E36: E 070 | F36: C2 | G36: 045 | H36: D2 | I36: 036 | J36: E
A37: 16644497 | B37: F | C37: MUSKAN KUMARI | D37: 301 302 043 | E37: 42 | G37: 041 | I37: 048 | K37: B2 | L37: B2 | M37: B2 | N37: PASS
D38: 079 B2 071 C2 051 | E38: D2 057 | F38: C1 | G38: 045 | H38: D2 | I38: 073 | J38: C2
A39: 16644498 | B39: F | C39: NAMRATA SHARMA | D39: 301 124 043 | E39: 42 | G39: 044 | I39: 048 | K39: B1 | L39: B2 | M39: B2 | N39: ESSENTIAL REPEAT
D40: 073 C2 072 B2 029 | E40: E 035 | F40: E | G40: 041 | H40: E | I40: 061 | J40: D1
A41: 16644499 | B41: F | C41: PASSANG LHAMU SHERPA | D41: 301 124 043 | E41: 48 | G41: 044 | I41: 042 | K41: A2 | L41: A1 | M41: A2 | N41: PASS
D42: 093 A1 093 A1 057 | E42: C2 083 | F42: B1 | G42: 083 | H42: B1 | I42: 043 | J42: E
A43: 16644500 | B43: F | C43: PEMA LAMU BHUTIA | D43: 301 195 048 | E43: 42 | G43: 044 | I43: 043 | K43: B1 | L43: B1 | M43: B1 | N43: PASS
D44: 078 C1 065 D1 072 | E44: C2 054 | F44: C2 | G44: 063 | H44: C2 | I44: 037 | J44: E
A45: 16644501 | B45: F | C45: PRACHE RAI | D45: 301 124 048 | E45: 42 | G45: 044 | I45: 043 | K45: B2 | L45: B2 | M45: B2 | N45: COMP 042 043
D46: 079 B2 073 B1 059 | E46: D2 037 | F46: E | G46: 048 | H46: D2 | I46: 034 | J46: E
A48: 16644502 | B48: F | C48: PRAJAKTA TAMANG | D48: 301 124 043 | E48: 42 | G48: 044 | I48: 048 | K48: B1 | L48: B1 | M48: B1 | N48: ESSENTIAL REPEAT
D49: 083 B2 067 C1 032 | E49: E 036 | F49: E | G49: 043 | H49: E | I49: 056 | J49: D2
A50: 16644503 | B50: M | C50: PRAZAL GURUNG | D50: 301 302 043 | E50: 42 | G50: 044 | I50: 048 | K50: A2 | L50: A2 | M50: B1 | N50: PASS
D51: 088 A2 067 D1 051 | E51: D2 056 | F51: C1 | G51: 060 | H51: C2 | I51: 075 | J51: C1
A52: 16644504 | B52: F | C52: RIGZIN DOLMA BHUTIA | D52: 301 124 043 | E52: 42 | G52: 044 | I52: 048 | K52: A1 | L52: A2 | M52: A1 | N52: PASS
D53: 092 A1 097 A1 068 | E53: B2 057 | F53: C1 | G53: 074 | H53: B2 | I53: 091 | J53: A1
A54: 16644505 | B54: M | C54: SAROJ PRADHAN | D54: 301 302 043 | E54: 42 | G54: 041 | I54: 048 | K54: B1 | L54: B1 | M54: B1 | N54: ESSENTIAL REPEAT
D55: 079 B2 062 D1 034 | E55: E 035 | F55: E | G55: 033 | H55: E | I55: 073 | J55: C2
A56: 16644506 | B56: F | C56: SNEHA CHETTRI | D56: 301 124 048 | E56: 42 | G56: 044 | I56: 043 | K56: B1 | L56: B1 | M56: B1 | N56: COMP 042 043
D57: 093 A1 085 A1 077 | E57: C1 039 | F57: E | G57: 051 | H57: D2 | I57: 038 | J57: E
A58: 16644507 | B58: F | C58: SNEHA RAI | D58: 301 124 048 | E58: 42 | G58: 044 | I58: 043 | K58: B2 | L58: B2 | M58: B1 | N58: COMP 042 043
D59: 084 B1 091 A1 088 | E59: A2 041 | F59: E | G59: 067 | H59: C1 | I59: 040 | J59: E
A60: 16644508 | B60: M | C60: SONAM DORJEE SHERPA | D60: 301 302 048 | E60: 42 | G60: 044 | I60: 043 | K60: B2 | L60: B1 | M60: B1 | N60: COMP 042 043
D61: 074 C1 056 D2 080 | E61: B2 031 | F61: E | G61: 052 | H61: D2 | I61: 031 | J61: E
A62: _x000c_
A63: DATE:- 13 | B63: -5 | C63: -2026 C.B.S.E. - SENIOR | D63: SCHOOL CERTIFICATE EXAMINATION (MAIN)-2026 | E63: REGIO | F63: N: GU | G63: WAH | H63: ATI | K63: PAGE | L63: :- | N63: 2
D64: ***** (SCHOOL / ROLL NO WISE GAZETTE) | E64: *****
A66: --------- | B66: --- | C66: -------------------------- | D66: ----------------------------------------------- | E66: ------- | F66: ----- | G66: --- | H66: ----- | I66: --- | J66: ---- | K66: ---- | L66: --- | M66: ---- | N66: ---------------------------
A67: ROLL F | B67: S | C67: NAME OF CANDIDATE | D67: {=--------------------S} -> #NAME? | E67: UBJECTS | F67: ----- | G67: --- | H67: ----- | I67: --- | J67: -- | K67: INT- | L67: SB- | M67: GRD | N67: RES COMP
A68: NO L | B68: X | D68: SUB CD SUB CD SUB C | E68: D SUB | F68: CD S | G68: UB | H68: CD S | I68: UB | J68: CD | K68: GR1 | L68: GR2 | M68: GR3 | N68: SUB
D69: MKS GR MKS GR MKS G | E69: R MKS | F69: GR M | G69: KS | H69: GR M | I69: KS | J69: GR
A70: --------- | B70: --- | C70: -------------------------- | D70: ----------------------------------------------- | E70: ------- | F70: ----- | G70: --- | H70: ----- | I70: --- | J70: ---- | K70: ---- | L70: --- | M70: ---- | N70: ---------------------------
A72: SCHOOL : | B72: -3 | C72: 7211 PM SHRI CHANDRALAL | D72: SHARMA GOVT SR SEC SCH CHUJACHEN EAST SM
A74: 16644509 | B74: F | C74: SRIJANA SHARMA | D74: 301 124 048 | E74: 42 | G74: 044 | I74: 043 | K74: B2 | L74: B2 | M74: B2 | N74: PASS
D75: 086 B1 081 A2 080 | E75: B2 050 | F75: D2 | G75: 052 | H75: D2 | I75: 032 | J75: E
A76: 16644510 | B76: F | C76: TRIPTI BISWAKARMA | D76: 301 124 043 | E76: 48 | G76: 044 | I76: 042 | K76: A1 | L76: A2 | M76: A2 | N76: PASS
D77: 082 B2 094 A1 048 | E77: D2 087 | F77: A2 | G77: 069 | H77: C1 | I77: 040 | J77: E
A78: 16644511 | B78: M | C78: UMESH SHARMA | D78: 301 124 043 | E78: 48 | G78: 044 | I78: 042 | K78: A2 | L78: A1 | M78: A1 | N78: PASS
D79: 079 B2 085 A1 049 | E79: D2 084 | F79: B1 | G79: 060 | H79: C2 | I79: 042 | J79: E
A81: 16644512 | B81: F | C81: ADRINA SEWA | D81: 301 124 806 | E81: 810 | G81: 029 | I81: 048 | K81: B1 | L81: B2 | M81: B2 | N81: PASS
D82: 083 B2 100 A1 086 | E82: A2 080 | F82: C2 | G82: 063 | H82: C2 | I82: 078 | J82: C1
A83: 16644513 | B83: F | C83: AHALYA THAPA | D83: 301 124 806 | E83: 810 | G83: 029 | I83: 048 | K83: B2 | L83: B1 | M83: B1 | N83: PASS
D84: 059 D1 060 C2 065 | E84: D1 065 | F84: D2 | G84: 050 | H84: D2 | I84: 062 | J84: D1
A85: 16644514 | B85: F | C85: SNEHA SHARMA | D85: 301 302 806 | E85: 810 | G85: 029 | I85: 048 | K85: B2 | L85: B2 | M85: B2 | N85: PASS
D86: 062 D1 049 D2 066 | E86: C2 073 | F86: D1 | G86: 054 | H86: D1 | I86: 061 | J86: D1
A87: 16644515 | B87: F | C87: ISHWARI KARKI | D87: 301 124 806 | E87: 810 | G87: 029 | I87: 048 | K87: B2 | L87: B2 | M87: B2 | N87: PASS
D88: 058 D1 068 C1 075 | E88: B2 061 | F88: D2 | G88: 051 | H88: D2 | I88: 056 | J88: D2
A89: 16644516 | B89: F | C89: SAMJANA CHETTRI | D89: 301 302 806 | E89: 810 | G89: 029 | I89: 048 | K89: B2 | L89: B2 | M89: B2 | N89: PASS
D90: 067 C2 049 D2 072 | E90: C1 066 | F90: D2 | G90: 061 | H90: C2 | I90: 057 | J90: D2
A91: 16644517 | B91: M | C91: DAWA SHERPA | D91: 301 302 806 | E91: 810 | G91: 029 | I91: 048 | K91: B2 | L91: B2 | M91: B2 | N91: PASS
D92: 061 D1 046 D2 067 | E92: C2 068 | F92: D2 | G92: 049 | H92: D2 | I92: 056 | J92: D2
A93: 16644518 | B93: M | C93: BHAI SHERPA | D93: 301 302 806 | E93: 810 | G93: 029 | I93: 048 | K93: B2 | L93: B1 | M93: B1 | N93: PASS
D94: 070 C2 048 D2 065 | E94: D1 074 | F94: D1 | G94: 054 | H94: D1 | I94: 070 | J94: C2
A95: 16644519 | B95: F | C95: AISHA MISHRA | D95: 301 124 806 | E95: 810 | G95: 029 | I95: 048 | K95: B1 | L95: B1 | M95: B1 | N95: PASS
D96: 063 D1 059 C2 072 | E96: C1 063 | F96: D2 | G96: 049 | H96: D2 | I96: 057 | J96: D2
A97: 16644520 | B97: M | C97: SISHIR MANGER | D97: 301 302 806 | E97: 810 | G97: 029 | I97: 048 | K97: B2 | L97: B2 | M97: B2 | N97: PASS
D98: 073 C2 046 D2 074 | E98: B2 066 | F98: D2 | G98: 077 | H98: B1 | I98: 059 | J98: D2
A99: 16644521 | B99: F | C99: GANGA CHETTRI | D99: 301 124 806 | E99: 810 | G99: 029 | I99: 048 | K99: B2 | L99: B2 | M99: B2 | N99: PASS
D100: 052 D2 066 C1 060 | E100: D1 064 | F100: D2 | G100: 050 | H100: D2 | I100: 064 | J100: D1
A102: 16644522 | B102: F | C102: REEMA GURUNG | D102: 301 124 806 | E102: 810 | G102: 029 | I102: 048 | K102: B2 | L102: B2 | M102: B2 | N102: PASS
D103: 063 D1 053 D1 073 | E103: C1 052 | F103: D2 | G103: 049 | H103: D2 | I103: 050 | J103: D2
A104: 16644523 | B104: F | C104: PRASANSA RAI | D104: 301 048 806 | E104: 810 | G104: 029 | I104: 302 | K104: B2 | L104: B2 | M104: B2 | N104: PASS
D105: 063 D1 059 D2 067 | E105: C2 067 | F105: D2 | G105: 048 | H105: D2 | I105: 031 | J105: E
A106: 16644524 | B106: F | C106: DAMBER KUMARI CHETTRI | D106: 301 124 806 | E106: 810 | G106: 029 | I106: 048 | K106: B1 | L106: B2 | M106: B1 | N106: PASS
D107: 057 D1 080 A2 077 | E107: B1 077 | F107: C2 | G107: 062 | H107: C2 | I107: 069 | J107: C2
A108: 16644525 | B108: F | C108: RACHANA CHETTRI | D108: 301 124 806 | E108: 810 | G108: 029 | I108: 048 | K108: B2 | L108: B2 | M108: B2 | N108: PASS
D109: 073 C2 070 B2 067 | E109: C2 065 | F109: D2 | G109: 050 | H109: D2 | I109: 050 | J109: D2
A110: 16644526 | B110: F | C110: TSHERINGKI PALMU | D110: 301 302 806 | E110: 810 | G110: 029 | I110: 048 | K110: B1 | L110: B1 | M110: B2 | N110: PASS
D111: 075 C1 062 D1 059 | E111: D2 066 | F111: D2 | G111: 052 | H111: D2 | I111: 055 | J111: D2
A112: 16644527 | B112: F | C112: ALISHA RAI | D112: 301 124 806 | E112: 810 | G112: 029 | I112: 048 | K112: B1 | L112: B1 | M112: B1 | N112: PASS
D113: 050 D2 045 D2 068 | E113: C2 064 | F113: D2 | G113: 050 | H113: D2 | I113: 051 | J113: D2
...

Sheet RESULT
R3: STREAM | S3: TOTAL | T3: BEST 5 | U3: % 5 SUB
A4: RESULT | B4: ROLL F | C4: S | D4: NAME OF CANDIDATE | E4: MKS | F4: GR | G4: MKS | H4: GR | I4: MKS | J4: GR | K4: MKS | L4: GR | M4: MKS | N4: GR | O4: MKS | P4: GR | Q4: MKS | S4: MKS | T4: TOTAL | U4: PERCENT IN 6 SUB | V4: RANK
A5: COMP 042 043 | B5: 16644486 | C5: M | D5: AMARSAN RAI | E5: 75 | F5: C1 | G5: 71 | H5: B2 | I5: 74 | K5: C1 | L5: 33 | M5: E | N5: 48 | O5: D2 | P5: 32 | Q5: E | R5: SCIENCE | S5: 333 | T5: 301 | U5: 60.2 | V5: 76
A6: COMP 043 042 | B6: 16644487 | C6: F | D6: AMBIKA SHARMA | E6: 79 | F6: B2 | G6: 76 | H6: B1 | I6: 40 | K6: E | L6: 78 | M6: C1 | N6: 50 | O6: D2 | P6: 35 | Q6: E | R6: SCIENCE | S6: 358 | T6: 323 | U6: 64.6 | V6: 56
A7: PASS | B7: 16644488 | C7: M | D7: AMRIT MANGER | E7: 77 | F7: C1 | G7: 73 | H7: B1 | I7: 48 | K7: D2 | L7: 49 | M7: D2 | N7: 64 | O7: C2 | P7: 79 | Q7: B2 | R7: SCIENCE | S7: 390 | T7: 342 | U7: 68.4 | V7: 40
A8: ESSENTIAL REPEAT | B8: 16644489 | C8: F | D8: ANUSHKA RAI | E8: 81 | F8: B2 | G8: 81 | H8: A2 | I8: 31 | K8: E | L8: 32 | M8: E | N8: 36 | O8: E | P8: 58 | Q8: D2 | R8: SCIENCE | S8: 319 | T8: 288 | U8: 57.6 | V8: 91
A9: ESSENTIAL REPEAT | B9: 16644490 | C9: F | D9: DEEPIKA GURUNG | E9: 69 | F9: C2 | G9: 78 | H9: A2 | I9: 36 | K9: E | L9: 30 | M9: E | N9: 38 | O9: E | P9: 66 | Q9: D1 | R9: SCIENCE | S9: 317 | T9: 287 | U9: 57.4 | V9: 92
A10: COMP 042 043 | B10: 16644491 | C10: F | D10: DIKCHIKA GURUNG | E10: 57 | F10: D1 | G10: 78 | H10: A2 | I10: 78 | K10: C1 | L10: 37 | M10: E | N10: 48 | O10: D2 | P10: 37 | Q10: E | R10: SCIENCE | S10: 335 | T10: 298 | U10: 59.6 | V10: 79
A11: COMP 043 042 | B11: 16644492 | C11: F | D11: ESMEHA RAI | E11: 80 | F11: B2 | G11: 61 | H11: C2 | I11: 36 | K11: E | L11: 63 | M11: D1 | N11: 51 | O11: D2 | P11: 34 | Q11: E | R11: SCIENCE | S11: 325 | T11: 291 | U11: 58.2 | V11: 88
A12: COMP 043 042 | B12: 16644493 | C12: F | D12: JAYA RAI | E12: 75 | F12: C1 | G12: 89 | H12: A1 | I12: 39 | K12: E | L12: 72 | M12: C2 | N12: 70 | O12: C1 | P12: 34 | Q12: E | R12: SCIENCE | S12: 379 | T12: 345 | U12: 69 | V12: 34
A13: PASS | B13: 16644494 | C13: M | D13: KARMA LODEY BHUTIA | E13: 69 | F13: C2 | G13: 74 | H13: B1 | I13: 49 | K13: D2 | L13: 70 | M13: C2 | N13: 53 | O13: C2 | P13: 41 | Q13: E | R13: SCIENCE | S13: 356 | T13: 315 | U13: 63 | V13: 65
A14: PASS | B14: 16644495 | C14: F | D14: KUNZONG LEPCHA | E14: 75 | F14: C1 | G14: 84 | H14: B2 | I14: 68 | K14: C2 | L14: 55 | M14: C2 | N14: 69 | O14: C1 | P14: 41 | Q14: E | R14: SCIENCE | S14: 392 | T14: 351 | U14: 70.2 | V14: 26
A15: COMP 043 042 | B15: 16644496 | C15: M | D15: MENLOM LEPCHA | E15: 77 | F15: C1 | G15: 67 | H15: C1 | I15: 38 | K15: E | L15: 70 | M15: C2 | N15: 45 | O15: D2 | P15: 36 | Q15: E | R15: SCIENCE | S15: 333 | T15: 297 | U15: 59.4 | V15: 81
A16: PASS | B16: 16644497 | C16: F | D16: MUSKAN KUMARI | E16: 79 | F16: B2 | G16: 71 | H16: C2 | I16: 51 | K16: D2 | L16: 57 | M16: C1 | N16: 45 | O16: D2 | P16: 73 | Q16: C2 | R16: SCIENCE | S16: 376 | T16: 331 | U16: 66.2 | V16: 47
... A110: PASS | B110: 16644591 | C110: M | D110: SAMIR RAI | E110: 66 | F110: D1 | G110: 57 | H110: D1 | I110: 44 | K110: D2 | L110: 49 | M110: D1 | N110: 59 | O110: D2 | P110: 24 | Q110: E | R110: COMMERCE | S110: 299 | T110: 275 | U110: 55 | V110: 100

Sheet ALL RESULT  ANALYSIS
E1: PMSHRI CLS GSSS CHUJACHEN CBSE CLASS XII RESULT 2026
D2: SUB | E2: CODE | F2: SUB | G2: CODE | H2: SUB | I2: CODE | J2: SUB | K2: CODE | L2: SUB | M2: CODE | N2: SUB | O2: CODE | P2: GR1 | Q2: GR2 | R2: GR3 | S2: SUB | T2: STREAM | U2: TOTAL | V2: BEST 5 | W2: % 5 SUB
A3: ROLL | B3: SEX | C3: NAME OF CANDIDATE | D3: MKS | E3: GRADE | F3: MKS | G3: GRADE | H3: MKS | I3: GRADE | J3: MKS | K3: GRADE | L3: MKS | M3: GRADE | N3: MKS | O3: GRADE | P3: GR1 | Q3: GR2 | R3: GR3 | S3: SUB | U3: MKS | V3: TOTAL | W3: PERCENT IN 6 SUB | X3: RANK
A4: 16644486 | B4: M | C4: AMARSAN RAI | D4: 301 | E4: =VLOOKUP(D4,'SUBJECT CODE'!$B$1:$C$30,2,0) -> English Core | F4: 124 | G4: =VLOOKUP(F4,'SUBJECT CODE'!$B$1:$C$30,2,0) -> NEPALI | H4: 48 | I4: =VLOOKUP(H4,'SUBJECT CODE'!$B$1:$C$30,2,0) -> Physical Education | J4: 42 | K4: =VLOOKUP(J4,'SUBJECT CODE'!$B$1:$C$30,2,0) -> Physics | L4: 44 | M4: =VLOOKUP(L4,'SUBJECT CODE'!$B$1:$C$30,2,0) -> Biology | N4: 43 | O4: =VLOOKUP(N4,'SUBJECT CODE'!$B$1:$C$30,2,0) -> Chemistry | P4: B1 | Q4: B1 | R4: B1 | S4: COMP 042 043 | T4: SCIENCE | U4: =COUNTBLANK(D4:O4) -> 0
D5: 75 | E5: C1 | F5: 71 | G5: B2 | H5: 74 | I5: C1 | J5: 33 | K5: E | L5: 48 | M5: D2 | N5: 32 | O5: E | T5: SCIENCE | U5: =SUM(D5,F5,H5,J5,L5,N5) -> 333 | V5: =U5-MIN(D5,F5,H5,J5,L5,N5) -> 301 | W5: =IFERROR(V5/500*100,"") -> 60.2 | X5: =IFERROR(RANK(W5,$W$5:$W$215),0) -> 76
A6: 16644487 | B6: F | C6: AMBIKA SHARMA | D6: 301 | E6: =VLOOKUP(D6,'SUBJECT CODE'!$B$1:$C$30,2,0) -> English Core | F6: 124 | G6: =VLOOKUP(F6,'SUBJECT CODE'!$B$1:$C$30,2,0) -> NEPALI | H6: 43 | I6: =VLOOKUP(H6,'SUBJECT CODE'!$B$1:$C$30,2,0) -> Chemistry | J6: 48 | K6: =VLOOKUP(J6,'SUBJECT CODE'!$B$1:$C$30,2,0) -> Physical Education | L6: 44 | M6: =VLOOKUP(L6,'SUBJECT CODE'!$B$1:$C$30,2,0) -> Biology | N6: 42 | O6: =VLOOKUP(N6,'SUBJECT CODE'!$B$1:$C$30,2,0) -> Physics | P6: B1 | Q6: B1 | R6: B1 | S6: COMP 043 042 | U6: =COUNTBLANK(D6:O6) -> 0 | V6: =IF(U6=1,SUM(N6,L6,K6,H6,F6,D6),"") | W6: =IFERROR(V6/600*100,"") | X6: =IFERROR(RANK(W6,$W$5:$W$215),0) -> 0
D7: 79 | E7: B2 | F7: 76 | G7: B1 | H7: 40 | I7: E | J7: 78 | K7: C1 | L7: 50 | M7: D2 | N7: 35 | O7: E | T7: SCIENCE | U7: =SUM(D7,F7,H7,J7,L7,N7) -> 358 | V7: =U7-MIN(D7,F7,H7,J7,L7,N7) -> 323 | W7: =IFERROR(V7/500*100,"") -> 64.6 | X7: =IFERROR(RANK(W7,$W$5:$W$215),0) -> 56
A8: 16644488 | B8: M | C8: AMRIT MANGER | D8: 301 | E8: =VLOOKUP(D8,'SUBJECT CODE'!$B$1:$C$30,2,0) -> English Core | F8: 124 | G8: =VLOOKUP(F8,'SUBJECT CODE'!$B$1:$C$30,2,0) -> NEPALI | H8: 43 | I8: =VLOOKUP(H8,'SUBJECT CODE'!$B$1:$C$30,2,0) -> Chemistry | J8: 42 | K8: =VLOOKUP(J8,'SUBJECT CODE'!$B$1:$C$30,2,0) -> Physics | L8: 44 | M8: =VLOOKUP(L8,'SUBJECT CODE'!$B$1:$C$30,2,0) -> Biology | N8: 48 | O8: =VLOOKUP(N8,'SUBJECT CODE'!$B$1:$C$30,2,0) -> Physical Education | P8: B1 | Q8: B1 | R8: B1 | S8: PASS | U8: =COUNTBLANK(D8:O8) -> 0 | V8: =IF(U8=1,SUM(N8,L8,K8,H8,F8,D8),"") | W8: =IFERROR(V8/600*100,"") | X8: =IFERROR(RANK(W8,$W$5:$W$215),0) -> 0
D9: 77 | E9: C1 | F9: 73 | G9: B1 | H9: 48 | I9: D2 | J9: 49 | K9: D2 | L9: 64 | M9: C2 | N9: 79 | O9: B2 | T9: SCIENCE | U9: =SUM(D9,F9,H9,J9,L9,N9) -> 390 | V9: =U9-MIN(D9,F9,H9,J9,L9,N9) -> 342 | W9: =IFERROR(V9/500*100,"") -> 68.4 | X9: =IFERROR(RANK(W9,$W$5:$W$215),0) -> 40
A10: 16644489 | B10: F | C10: ANUSHKA RAI | D10: 301 | E10: =VLOOKUP(D10,'SUBJECT CODE'!$B$1:$C$30,2,0) -> English Core | F10: 124 | G10: =VLOOKUP(F10,'SUBJECT CODE'!$B$1:$C$30,2,0) -> NEPALI | H10: 43 | I10: =VLOOKUP(H10,'SUBJECT CODE'!$B$1:$C$30,2,0) -> Chemistry | J10: 42 | K10: =VLOOKUP(J10,'SUBJECT CODE'!$B$1:$C$30,2,0) -> Physics | L10: 44 | M10: =VLOOKUP(L10,'SUBJECT CODE'!$B$1:$C$30,2,0) -> Biology | N10: 48 | O10: =VLOOKUP(N10,'SUBJECT CODE'!$B$1:$C$30,2,0) -> Physical Education | P10: B1 | Q10: B1 | R10: B1 | S10: ESSENTIAL REPEAT | U10: =COUNTBLANK(D10:O10) -> 0 | V10: =IF(U10=1,SUM(N10,L10,K10,H10,F10,D10),"") | W10: =IFERROR(V10/600*100,"") | X10: =IFERROR(RANK(W10,$W$5:$W$215),0) -> 0
D11: 81 | E11: B2 | F11: 81 | G11: A2 | H11: 31 | I11: E | J11: 32 | K11: E | L11: 36 | M11: E | N11: 58 | O11: D2 | T11: SCIENCE | U11: =SUM(D11,F11,H11,J11,L11,N11) -> 319 | V11: =U11-MIN(D11,F11,H11,J11,L11,N11) -> 288 | W11: =IFERROR(V11/500*100,"") -> 57.6 | X11: =IFERROR(RANK(W11,$W$5:$W$215),0) -> 91
A12: 16644490 | B12: F | C12: DEEPIKA GURUNG | D12: 301 | E12: =VLOOKUP(D12,'SUBJECT CODE'!$B$1:$C$30,2,0) -> English Core | F12: 124 | G12: =VLOOKUP(F12,'SUBJECT CODE'!$B$1:$C$30,2,0) -> NEPALI | H12: 43 | I12: =VLOOKUP(H12,'SUBJECT CODE'!$B$1:$C$30,2,0) -> Chemistry | J12: 42 | K12: =VLOOKUP(J12,'SUBJECT CODE'!$B$1:$C$30,2,0) -> Physics | L12: 44 | M12: =VLOOKUP(L12,'SUBJECT CODE'!$B$1:$C$30,2,0) -> Biology | N12: 48 | O12: =VLOOKUP(N12,'SUBJECT CODE'!$B$1:$C$30,2,0) -> Physical Education | P12: B1 | Q12: B1 | R12: B1 | S12: ESSENTIAL REPEAT | U12: =COUNTBLANK(D12:O12) -> 0 | V12: =IF(U12=1,SUM(N12,L12,K12,H12,F12,D12),"") | W12: =IFERROR(V12/600*100,"") | X12: =IFERROR(RANK(W12,$W$5:$W$215),0) -> 0
D13: 69 | E13: C2 | F13: 78 | G13: A2 | H13: 36 | I13: E | J13: 30 | K13: E | L13: 38 | M13: E | N13: 66 | O13: D1 | T13: SCIENCE | U13: =SUM(D13,F13,H13,J13,L13,N13) -> 317 | V13: =U13-MIN(D13,F13,H13,J13,L13,N13) -> 287 | W13: =IFERROR(V13/500*100,"") -> 57.4 | X13: =IFERROR(RANK(W13,$W$5:$W$215),0) -> 92
A14: 16644491 | B14: F | C14: DIKCHIKA GURUNG | D14: 301 | E14: =VLOOKUP(D14,'SUBJECT CODE'!$B$1:$C$30,2,0) -> English Core | F14: 124 | G14: =VLOOKUP(F14,'SUBJECT CODE'!$B$1:$C$30,2,0) -> NEPALI | H14: 48 | I14: =VLOOKUP(H14,'SUBJECT CODE'!$B$1:$C$30,2,0) -> Physical Education | J14: 42 | K14: =VLOOKUP(J14,'SUBJECT CODE'!$B$1:$C$30,2,0) -> Physics | L14: 44 | M14: =VLOOKUP(L14,'SUBJECT CODE'!$B$1:$C$30,2,0) -> Biology | N14: 43 | O14: =VLOOKUP(N14,'SUBJECT CODE'!$B$1:$C$30,2,0) -> Chemistry | P14: B1 | Q14: B1 | R14: B1 | S14: COMP 042 043 | U14: =COUNTBLANK(D14:O14) -> 0 | V14: =IF(U14=1,SUM(N14,L14,K14,H14,F14,D14),"") | W14: =IFERROR(V14/600*100,"") | X14: =IFERROR(RANK(W14,$W$5:$W$215),0) -> 0
D15: 57 | E15: D1 | F15: 78 | G15: A2 | H15: 78 | I15: C1 | J15: 37 | K15: E | L15: 48 | M15: D2 | N15: 37 | O15: E | T15: SCIENCE | U15: =SUM(D15,F15,H15,J15,L15,N15) -> 335 | V15: =U15-MIN(D15,F15,H15,J15,L15,N15) -> 298 | W15: =IFERROR(V15/500*100,"") -> 59.6 | X15: =IFERROR(RANK(W15,$W$5:$W$215),0) -> 79
A16: 16644492 | B16: F | C16: ESMEHA RAI | D16: 301 | E16: =VLOOKUP(D16,'SUBJECT CODE'!$B$1:$C$30,2,0) -> English Core | F16: 124 | G16: =VLOOKUP(F16,'SUBJECT CODE'!$B$1:$C$30,2,0) -> NEPALI | H16: 43 | I16: =VLOOKUP(H16,'SUBJECT CODE'!$B$1:$C$30,2,0) -> Chemistry | J16: 48 | K16: =VLOOKUP(J16,'SUBJECT CODE'!$B$1:$C$30,2,0) -> Physical Education | L16: 44 | M16: =VLOOKUP(L16,'SUBJECT CODE'!$B$1:$C$30,2,0) -> Biology | N16: 42 | O16: =VLOOKUP(N16,'SUBJECT CODE'!$B$1:$C$30,2,0) -> Physics | P16: B1 | Q16: B1 | R16: B1 | S16: COMP 043 042 | U16: =COUNTBLANK(D16:O16) -> 0 | V16: =IF(U16=1,SUM(N16,L16,K16,H16,F16,D16),"") | W16: =IFERROR(V16/600*100,"") | X16: =IFERROR(RANK(W16,$W$5:$W$215),0) -> 0
D17: 80 | E17: B2 | F17: 61 | G17: C2 | H17: 36 | I17: E | J17: 63 | K17: D1 | L17: 51 | M17: D2 | N17: 34 | O17: E | T17: SCIENCE | U17: =SUM(D17,F17,H17,J17,L17,N17) -> 325 | V17: =U17-MIN(D17,F17,H17,J17,L17,N17) -> 291 | W17: =IFERROR(V17/500*100,"") -> 58.2 | X17: =IFERROR(RANK(W17,$W$5:$W$215),0) -> 88
A18: 16644493 | B18: F | C18: JAYA RAI | D18: 301 | E18: =VLOOKUP(D18,'SUBJECT CODE'!$B$1:$C$30,2,0) -> English Core | F18: 124 | G18: =VLOOKUP(F18,'SUBJECT CODE'!$B$1:$C$30,2,0) -> NEPALI | H18: 43 | I18: =VLOOKUP(H18,'SUBJECT CODE'!$B$1:$C$30,2,0) -> Chemistry | J18: 48 | K18: =VLOOKUP(J18,'SUBJECT CODE'!$B$1:$C$30,2,0) -> Physical Education | L18: 44 | M18: =VLOOKUP(L18,'SUBJECT CODE'!$B$1:$C$30,2,0) -> Biology | N18: 42 | O18: =VLOOKUP(N18,'SUBJECT CODE'!$B$1:$C$30,2,0) -> Physics | P18: B1 | Q18: B1 | R18: B1 | S18: COMP 043 042 | U18: =COUNTBLANK(D18:O18) -> 0 | V18: =IF(U18=1,SUM(N18,L18,K18,H18,F18,D18),"") | W18: =IFERROR(V18/600*100,"") | X18: =IFERROR(RANK(W18,$W$5:$W$215),0) -> 0
D19: 75 | E19: C1 | F19: 89 | G19: A1 | H19: 39 | I19: E | J19: 72 | K19: C2 | L19: 70 | M19: C1 | N19: 34 | O19: E | T19: SCIENCE | U19: =SUM(D19,F19,H19,J19,L19,N19) -> 379 | V19: =U19-MIN(D19,F19,H19,J19,L19,N19) -> 345 | W19: =IFERROR(V19/500*100,"") -> 69 | X19: =IFERROR(RANK(W19,$W$5:$W$215),0) -> 34
A20: 16644494 | B20: M | C20: KARMA LODEY BHUTIA | D20: 301 | E20: =VLOOKUP(D20,'SUBJECT CODE'!$B$1:$C$30,2,0) -> English Core | F20: 124 | G20: =VLOOKUP(F20,'SUBJECT CODE'!$B$1:$C$30,2,0) -> NEPALI | H20: 43 | I20: =VLOOKUP(H20,'SUBJECT CODE'!$B$1:$C$30,2,0) -> Chemistry | J20: 48 | K20: =VLOOKUP(J20,'SUBJECT CODE'!$B$1:$C$30,2,0) -> Physical Education | L20: 41 | M20: =VLOOKUP(L20,'SUBJECT CODE'!$B$1:$C$30,2,0) -> Mathematics | N20: 42 | O20: =VLOOKUP(N20,'SUBJECT CODE'!$B$1:$C$30,2,0) -> Physics | P20: B1 | Q20: B1 | R20: B1 | S20: PASS | U20: =COUNTBLANK(D20:O20) -> 0 | V20: =IF(U20=1,SUM(N20,L20,K20,H20,F20,D20),"") | W20: =IFERROR(V20/600*100,"") | X20: =IFERROR(RANK(W20,$W$5:$W$215),0) -> 0
D21: 69 | E21: C2 | F21: 74 | G21: B1 | H21: 49 | I21: D2 | J21: 70 | K21: C2 | L21: 53 | M21: C2 | N21: 41 | O21: E | T21: SCIENCE | U21: =SUM(D21,F21,H21,J21,L21,N21) -> 356 | V21: =U21-MIN(D21,F21,H21,J21,L21,N21) -> 315 | W21: =IFERROR(V21/500*100,"") -> 63 | X21: =IFERROR(RANK(W21,$W$5:$W$215),0) -> 65
A22: 16644495 | B22: F | C22: KUNZONG LEPCHA | D22: 301 | E22: =VLOOKUP(D22,'SUBJECT CODE'!$B$1:$C$30,2,0) -> English Core | F22: 126 | G22: =VLOOKUP(F22,'SUBJECT CODE'!$B$1:$C$30,2,0) -> LEPCHA | H22: 48 | I22: =VLOOKUP(H22,'SUBJECT CODE'!$B$1:$C$30,2,0) -> Physical Education | J22: 42 | K22: =VLOOKUP(J22,'SUBJECT CODE'!$B$1:$C$30,2,0) -> Physics | L22: 44 | M22: =VLOOKUP(L22,'SUBJECT CODE'!$B$1:$C$30,2,0) -> Biology | N22: 43 | O22: =VLOOKUP(N22,'SUBJECT CODE'!$B$1:$C$30,2,0) -> Chemistry | P22: B2 | Q22: B2 | R22: B2 | S22: PASS | U22: =COUNTBLANK(D22:O22) -> 0 | V22: =IF(U22=1,SUM(N22,L22,K22,H22,F22,D22),"") | W22: =IFERROR(V22/600*100,"") | X22: =IFERROR(RANK(W22,$W$5:$W$215),0) -> 0
D23: 75 | E23: C1 | F23: 84 | G23: B2 | H23: 68 | I23: C2 | J23: 55 | K23: C2 | L23: 69 | M23: C1 | N23: 41 | O23: E | T23: SCIENCE | U23: =SUM(D23,F23,H23,J23,L23,N23) -> 392 | V23: =U23-MIN(D23,F23,H23,J23,L23,N23) -> 351 | W23: =IFERROR(V23/500*100,"") -> 70.2 | X23: =IFERROR(RANK(W23,$W$5:$W$215),0) -> 26
A24: 16644496 | B24: M | C24: MENLOM LEPCHA | D24: 301 | E24: =VLOOKUP(D24,'SUBJECT CODE'!$B$1:$C$30,2,0) -> English Core | F24: 124 | G24: =VLOOKUP(F24,'SUBJECT CODE'!$B$1:$C$30,2,0) -> NEPALI | H24: 43 | I24: =VLOOKUP(H24,'SUBJECT CODE'!$B$1:$C$30,2,0) -> Chemistry | J24: 48 | K24: =VLOOKUP(J24,'SUBJECT CODE'!$B$1:$C$30,2,0) -> Physical Education | L24: 41 | M24: =VLOOKUP(L24,'SUBJECT CODE'!$B$1:$C$30,2,0) -> Mathematics | N24: 42 | O24: =VLOOKUP(N24,'SUBJECT CODE'!$B$1:$C$30,2,0) -> Physics | P24: B1 | Q24: A2 | R24: A2 | S24: COMP 043 042 | U24: =COUNTBLANK(D24:O24) -> 0 | V24: =IF(U24=1,SUM(N24,L24,K24,H24,F24,D24),"") | W24: =IFERROR(V24/600*100,"") | X24: =IFERROR(RANK(W24,$W$5:$W$215),0) -> 0
D25: 77 | E25: C1 | F25: 67 | G25: C1 | H25: 38 | I25: E | J25: 70 | K25: C2 | L25: 45 | M25: D2 | N25: 36 | O25: E | T25: SCIENCE | U25: =SUM(D25,F25,H25,J25,L25,N25) -> 333 | V25: =U25-MIN(D25,F25,H25,J25,L25,N25) -> 297 | W25: =IFERROR(V25/500*100,"") -> 59.4 | X25: =IFERROR(RANK(W25,$W$5:$W$215),0) -> 81
A26: 16644497 | B26: F | C26: MUSKAN KUMARI | D26: 301 | E26: =VLOOKUP(D26,'SUBJECT CODE'!$B$1:$C$30,2,0) -> English Core | F26: 302 | G26: =VLOOKUP(F26,'SUBJECT CODE'!$B$1:$C$30,2,0) -> HINDI | H26: 43 | I26: =VLOOKUP(H26,'SUBJECT CODE'!$B$1:$C$30,2,0) -> Chemistry | J26: 42 | K26: =VLOOKUP(J26,'SUBJECT CODE'!$B$1:$C$30,2,0) -> Physics | L26: 41 | M26: =VLOOKUP(L26,'SUBJECT CODE'!$B$1:$C$30,2,0) -> Mathematics | N26: 48 | O26: =VLOOKUP(N26,'SUBJECT CODE'!$B$1:$C$30,2,0) -> Physical Education | P26: B2 | Q26: B2 | R26: B2 | S26: PASS | U26: =COUNTBLANK(D26:O26) -> 0 | V26: =IF(U26=1,SUM(N26,L26,K26,H26,F26,D26),"") | W26: =IFERROR(V26/600*100,"") | X26: =IFERROR(RANK(W26,$W$5:$W$215),0) -> 0
D27: 79 | E27: B2 | F27: 71 | G27: C2 | H27: 51 | I27: D2 | J27: 57 | K27: C1 | L27: 45 | M27: D2 | N27: 73 | O27: C2 | T27: SCIENCE | U27: =SUM(D27,F27,H27,J27,L27,N27) -> 376 | V27: =U27-MIN(D27,F27,H27,J27,L27,N27) -> 331 | W27: =IFERROR(V27/500*100,"") -> 66.2 | X27: =IFERROR(RANK(W27,$W$5:$W$215),0) -> 47
A28: 16644498 | B28: F | C28: NAMRATA SHARMA | D28: 301 | E28: =VLOOKUP(D28,'SUBJECT CODE'!$B$1:$C$30,2,0) -> English Core | F28: 124 | G28: =VLOOKUP(F28,'SUBJECT CODE'!$B$1:$C$30,2,0) -> NEPALI | H28: 43 | I28: =VLOOKUP(H28,'SUBJECT CODE'!$B$1:$C$30,2,0) -> Chemistry | J28: 42 | K28: =VLOOKUP(J28,'SUBJECT CODE'!$B$1:$C$30,2,0) -> Physics | L28: 44 | M28: =VLOOKUP(L28,'SUBJECT CODE'!$B$1:$C$30,2,0) -> Biology | N28: 48 | O28: =VLOOKUP(N28,'SUBJECT CODE'!$B$1:$C$30,2,0) -> Physical Education | P28: B1 | Q28: B2 | R28: B2 | S28: ESSENTIAL REPEAT | U28: =COUNTBLANK(D28:O28) -> 0 | V28: =IF(U28=1,SUM(N28,L28,K28,H28,F28,D28),"") | W28: =IFERROR(V28/600*100,"") | X28: =IFERROR(RANK(W28,$W$5:$W$215),0) -> 0
D29: 73 | E29: C2 | F29: 72 | G29: B2 | H29: 29 | I29: E | J29: 35 | K29: E | L29: 41 | M29: E | N29: 61 | O29: D1 | T29: SCIENCE | U29: =SUM(D29,F29,H29,J29,L29,N29) -> 311 | V29: =U29-MIN(D29,F29,H29,J29,L29,N29) -> 282 | W29: =IFERROR(V29/500*100,"") -> 56.4 | X29: =IFERROR(RANK(W29,$W$5:$W$215),0) -> 98
A30: 16644499 | B30: F | C30: PASSANG LHAMU SHERPA | D30: 301 | E30: =VLOOKUP(D30,'SUBJECT CODE'!$B$1:$C$30,2,0) -> English Core | F30: 124 | G30: =VLOOKUP(F30,'SUBJECT CODE'!$B$1:$C$30,2,0) -> NEPALI | H30: 43 | I30: =VLOOKUP(H30,'SUBJECT CODE'!$B$1:$C$30,2,0) -> Chemistry | J30: 48 | K30: =VLOOKUP(J30,'SUBJECT CODE'!$B$1:$C$30,2,0) -> Physical Education | L30: 44 | M30: =VLOOKUP(L30,'SUBJECT CODE'!$B$1:$C$30,2,0) -> Biology | N30: 42 | O30: =VLOOKUP(N30,'SUBJECT CODE'!$B$1:$C$30,2,0) -> Physics | P30: A2 | Q30: A1 | R30: A2 | S30: PASS | U30: =COUNTBLANK(D30:O30) -> 0 | V30: =IF(U30=1,SUM(N30,L30,K30,H30,F30,D30),"") | W30: =IFERROR(V30/600*100,"") | X30: =IFERROR(RANK(W30,$W$5:$W$215),0) -> 0
D31: 93 | E31: A1 | F31: 93 | G31: A1 | H31: 57 | I31: C2 | J31: 83 | K31: B1 | L31: 83 | M31: B1 | N31: 43 | O31: E | T31: SCIENCE | U31: =SUM(D31,F31,H31,J31,L31,N31) -> 452 | V31: =U31-MIN(D31,F31,H31,J31,L31,N31) -> 409 | W31: =IFERROR(V31/500*100,"") -> 81.8 | X31: =IFERROR(RANK(W31,$W$5:$W$215),0) -> 5
A32: 16644500 | B32: F | C32: PEMA LAMU BHUTIA | D32: 301 | E32: =VLOOKUP(D32,'SUBJECT CODE'!$B$1:$C$30,2,0) -> English Core | F32: 195 | G32: =VLOOKUP(F32,'SUBJECT CODE'!$B$1:$C$30,2,0) -> BHUTIA | H32: 48 | I32: =VLOOKUP(H32,'SUBJECT CODE'!$B$1:$C$30,2,0) -> Physical Education | J32: 42 | K32: =VLOOKUP(J32,'SUBJECT CODE'!$B$1:$C$30,2,0) -> Physics | L32: 44 | M32: =VLOOKUP(L32,'SUBJECT CODE'!$B$1:$C$30,2,0) -> Biology | N32: 43 | O32: =VLOOKUP(N32,'SUBJECT CODE'!$B$1:$C$30,2,0) -> Chemistry | P32: B1 | Q32: B1 | R32: B1 | S32: PASS | U32: =COUNTBLANK(D32:O32) -> 0 | V32: =IF(U32=1,SUM(N32,L32,K32,H32,F32,D32),"") | W32: =IFERROR(V32/600*100,"") | X32: =IFERROR(RANK(W32,$W$5:$W$215),0) -> 0
D33: 78 | E33: C1 | F33: 65 | G33: D1 | H33: 72 | I33: C2 | J33: 54 | K33: C2 | L33: 63 | M33: C2 | N33: 37 | O33: E | T33: SCIENCE | U33: =SUM(D33,F33,H33,J33,L33,N33) -> 369 | V33: =U33-MIN(D33,F33,H33,J33,L33,N33) -> 332 | W33: =IFERROR(V33/500*100,"") -> 66.4 | X33: =IFERROR(RANK(W33,$W$5:$W$215),0) -> 46
A34: 16644501 | B34: F | C34: PRACHE RAI | D34: 301 | E34: =VLOOKUP(D34,'SUBJECT CODE'!$B$1:$C$30,2,0) -> English Core | F34: 124 | G34: =VLOOKUP(F34,'SUBJECT CODE'!$B$1:$C$30,2,0) -> NEPALI | H34: 48 | I34: =VLOOKUP(H34,'SUBJECT CODE'!$B$1:$C$30,2,0) -> Physical Education | J34: 42 | K34: =VLOOKUP(J34,'SUBJECT CODE'!$B$1:$C$30,2,0) -> Physics | L34: 44 | M34: =VLOOKUP(L34,'SUBJECT CODE'!$B$1:$C$30,2,0) -> Biology | N34: 43 | O34: =VLOOKUP(N34,'SUBJECT CODE'!$B$1:$C$30,2,0) -> Chemistry | P34: B2 | Q34: B2 | R34: B2 | S34: COMP 042 043 | U34: =COUNTBLANK(D34:O34) -> 0 | V34: =IF(U34=1,SUM(N34,L34,K34,H34,F34,D34),"") | W34: =IFERROR(V34/600*100,"") | X34: =IFERROR(RANK(W34,$W$5:$W$215),0) -> 0
D35: 79 | E35: B2 | F35: 73 | G35: B1 | H35: 59 | I35: D2 | J35: 37 | K35: E | L35: 48 | M35: D2 | N35: 34 | O35: E | T35: SCIENCE | U35: =SUM(D35,F35,H35,J35,L35,N35) -> 330 | V35: =U35-MIN(D35,F35,H35,J35,L35,N35) -> 296 | W35: =IFERROR(V35/500*100,"") -> 59.2 | X35: =IFERROR(RANK(W35,$W$5:$W$215),0) -> 82
A36: 16644502 | B36: F | C36: PRAJAKTA TAMANG | D36: 301 | E36: =VLOOKUP(D36,'SUBJECT CODE'!$B$1:$C$30,2,0) -> English Core | F36: 124 | G36: =VLOOKUP(F36,'SUBJECT CODE'!$B$1:$C$30,2,0) -> NEPALI | H36: 43 | I36: =VLOOKUP(H36,'SUBJECT CODE'!$B$1:$C$30,2,0) -> Chemistry | J36: 42 | K36: =VLOOKUP(J36,'SUBJECT CODE'!$B$1:$C$30,2,0) -> Physics | L36: 44 | M36: =VLOOKUP(L36,'SUBJECT CODE'!$B$1:$C$30,2,0) -> Biology | N36: 48 | O36: =VLOOKUP(N36,'SUBJECT CODE'!$B$1:$C$30,2,0) -> Physical Education | P36: B1 | Q36: B1 | R36: B1 | S36: ESSENTIAL REPEAT | U36: =COUNTBLANK(D36:O36) -> 0 | V36: =IF(U36=1,SUM(N36,L36,K36,H36,F36,D36),"") | W36: =IFERROR(V36/600*100,"") | X36: =IFERROR(RANK(W36,$W$5:$W$215),0) -> 0
D37: 83 | E37: B2 | F37: 67 | G37: C1 | H37: 32 | I37: E | J37: 36 | K37: E | L37: 43 | M37: E | N37: 56 | O37: D2 | T37: SCIENCE | U37: =SUM(D37,F37,H37,J37,L37,N37) -> 317 | V37: =U37-MIN(D37,F37,H37,J37,L37,N37) -> 285 | W37: =IFERROR(V37/500*100,"") -> 57 | X37: =IFERROR(RANK(W37,$W$5:$W$215),0) -> 93
A38: 16644503 | B38: M | C38: PRAZAL GURUNG | D38: 301 | E38: =VLOOKUP(D38,'SUBJECT CODE'!$B$1:$C$30,2,0) -> English Core | F38: 302 | G38: =VLOOKUP(F38,'SUBJECT CODE'!$B$1:$C$30,2,0) -> HINDI | H38: 43 | I38: =VLOOKUP(H38,'SUBJECT CODE'!$B$1:$C$30,2,0) -> Chemistry | J38: 42 | K38: =VLOOKUP(J38,'SUBJECT CODE'!$B$1:$C$30,2,0) -> Physics | L38: 44 | M38: =VLOOKUP(L38,'SUBJECT CODE'!$B$1:$C$30,2,0) -> Biology | N38: 48 | O38: =VLOOKUP(N38,'SUBJECT CODE'!$B$1:$C$30,2,0) -> Physical Education | P38: A2 | Q38: A2 | R38: B1 | S38: PASS | U38: =COUNTBLANK(D38:O38) -> 0 | V38: =IF(U38=1,SUM(N38,L38,K38,H38,F38,D38),"") | W38: =IFERROR(V38/600*100,"") | X38: =IFERROR(RANK(W38,$W$5:$W$215),0) -> 0
D39: 88 | E39: A2 | F39: 67 | G39: D1 | H39: 51 | I39: D2 | J39: 56 | K39: C1 | L39: 60 | M39: C2 | N39: 75 | O39: C1 | T39: SCIENCE | U39: =SUM(D39,F39,H39,J39,L39,N39) -> 397 | V39: =U39-MIN(D39,F39,H39,J39,L39,N39) -> 346 | W39: =IFERROR(V39/500*100,"") -> 69.2 | X39: =IFERROR(RANK(W39,$W$5:$W$215),0) -> 32
A40: 16644504 | B40: F | C40: RIGZIN DOLMA BHUTIA | D40: 301 | E40: =VLOOKUP(D40,'SUBJECT CODE'!$B$1:$C$30,2,0) -> English Core | F40: 124 | G40: =VLOOKUP(F40,'SUBJECT CODE'!$B$1:$C$30,2,0) -> NEPALI | H40: 43 | I40: =VLOOKUP(H40,'SUBJECT CODE'!$B$1:$C$30,2,0) -> Chemistry | J40: 42 | K40: =VLOOKUP(J40,'SUBJECT CODE'!$B$1:$C$30,2,0) -> Physics | L40: 44 | M40: =VLOOKUP(L40,'SUBJECT CODE'!$B$1:$C$30,2,0) -> Biology | N40: 48 | O40: =VLOOKUP(N40,'SUBJECT CODE'!$B$1:$C$30,2,0) -> Physical Education | P40: A1 | Q40: A2 | R40: A1 | S40: PASS | U40: =COUNTBLANK(D40:O40) -> 0 | V40: =IF(U40=1,SUM(N40,L40,K40,H40,F40,D40),"") | W40: =IFERROR(V40/600*100,"") | X40: =IFERROR(RANK(W40,$W$5:$W$215),0) -> 0
D41: 92 | E41: A1 | F41: 97 | G41: A1 | H41: 68 | I41: B2 | J41: 57 | K41: C1 | L41: 74 | M41: B2 | N41: 91 | O41: A1 | T41: SCIENCE | U41: =SUM(D41,F41,H41,J41,L41,N41) -> 479 | V41: =U41-MIN(D41,F41,H41,J41,L41,N41) -> 422 | W41: =IFERROR(V41/500*100,"") -> 84.4 | X41: =IFERROR(RANK(W41,$W$5:$W$215),0) -> 3
A42: 16644505 | B42: M | C42: SAROJ PRADHAN | D42: 301 | E42: =VLOOKUP(D42,'SUBJECT CODE'!$B$1:$C$30,2,0) -> English Core | F42: 302 | G42: =VLOOKUP(F42,'SUBJECT CODE'!$B$1:$C$30,2,0) -> HINDI | H42: 43 | I42: =VLOOKUP(H42,'SUBJECT CODE'!$B$1:$C$30,2,0) -> Chemistry | J42: 42 | K42: =VLOOKUP(J42,'SUBJECT CODE'!$B$1:$C$30,2,0) -> Physics | L42: 41 | M42: =VLOOKUP(L42,'SUBJECT CODE'!$B$1:$C$30,2,0) -> Mathematics | N42: 48 | O42: =VLOOKUP(N42,'SUBJECT CODE'!$B$1:$C$30,2,0) -> Physical Education | P42: B1 | Q42: B1 | R42: B1 | S42: ESSENTIAL REPEAT | U42: =COUNTBLANK(D42:O42) -> 0 | V42: =IF(U42=1,SUM(N42,L42,K42,H42,F42,D42),"") | W42: =IFERROR(V42/600*100,"") | X42: =IFERROR(RANK(W42,$W$5:$W$215),0) -> 0
D43: 79 | E43: B2 | F43: 62 | G43: D1 | H43: 34 | I43: E | J43: 35 | K43: E | L43: 33 | M43: E | N43: 73 | O43: C2 | T43: SCIENCE | U43: =SUM(D43,F43,H43,J43,L43,N43) -> 316 | V43: =U43-MIN(D43,F43,H43,J43,L43,N43) -> 283 | W43: =IFERROR(V43/500*100,"") -> 56.6 | X43: =IFERROR(RANK(W43,$W$5:$W$215),0) -> 95
A44: 16644506 | B44: F | C44: SNEHA CHETTRI | D44: 301 | E44: =VLOOKUP(D44,'SUBJECT CODE'!$B$1:$C$30,2,0) -> English Core | F44: 124 | G44: =VLOOKUP(F44,'SUBJECT CODE'!$B$1:$C$30,2,0) -> NEPALI | H44: 48 | I44: =VLOOKUP(H44,'SUBJECT CODE'!$B$1:$C$30,2,0) -> Physical Education | J44: 42 | K44: =VLOOKUP(J44,'SUBJECT CODE'!$B$1:$C$30,2,0) -> Physics | L44: 44 | M44: =VLOOKUP(L44,'SUBJECT CODE'!$B$1:$C$30,2,0) -> Biology | N44: 43 | O44: =VLOOKUP(N44,'SUBJECT CODE'!$B$1:$C$30,2,0) -> Chemistry | P44: B1 | Q44: B1 | R44: B1 | S44: COMP 042 043 | U44: =COUNTBLANK(D44:O44) -> 0 | V44: =IF(U44=1,SUM(N44,L44,K44,H44,F44,D44),"") | W44: =IFERROR(V44/600*100,"") | X44: =IFERROR(RANK(W44,$W$5:$W$215),0) -> 0
D45: 93 | E45: A1 | F45: 85 | G45: A1 | H45: 77 | I45: C1 | J45: 39 | K45: E | L45: 51 | M45: D2 | N45: 38 | O45: E | T45: SCIENCE | U45: =SUM(D45,F45,H45,J45,L45,N45) -> 383 | V45: =U45-MIN(D45,F45,H45,J45,L45,N45) -> 345 | W45: =IFERROR(V45/500*100,"") -> 69 | X45: =IFERROR(RANK(W45,$W$5:$W$215),0) -> 34
A46: 16644507 | B46: F | C46: SNEHA RAI | D46: 301 | E46: =VLOOKUP(D46,'SUBJECT CODE'!$B$1:$C$30,2,0) -> English Core | F46: 124 | G46: =VLOOKUP(F46,'SUBJECT CODE'!$B$1:$C$30,2,0) -> NEPALI | H46: 48 | I46: =VLOOKUP(H46,'SUBJECT CODE'!$B$1:$C$30,2,0) -> Physical Education | J46: 42 | K46: =VLOOKUP(J46,'SUBJECT CODE'!$B$1:$C$30,2,0) -> Physics | L46: 44 | M46: =VLOOKUP(L46,'SUBJECT CODE'!$B$1:$C$30,2,0) -> Biology | N46: 43 | O46: =VLOOKUP(N46,'SUBJECT CODE'!$B$1:$C$30,2,0) -> Chemistry | P46: B2 | Q46: B2 | R46: B1 | S46: COMP 042 043 | U46: =COUNTBLANK(D46:O46) -> 0 | V46: =IF(U46=1,SUM(N46,L46,K46,H46,F46,D46),"") | W46: =IFERROR(V46/600*100,"") | X46: =IFERROR(RANK(W46,$W$5:$W$215),0) -> 0
D47: 84 | E47: B1 | F47: 91 | G47: A1 | H47: 88 | I47: A2 | J47: 41 | K47: E | L47: 67 | M47: C1 | N47: 40 | O47: E | T47: SCIENCE | U47: =SUM(D47,F47,H47,J47,L47,N47) -> 411 | V47: =U47-MIN(D47,F47,H47,J47,L47,N47) -> 371 | W47: =IFERROR(V47/500*100,"") -> 74.2 | X47: =IFERROR(RANK(W47,$W$5:$W$215),0) -> 16
A48: 16644508 | B48: M | C48: SONAM DORJEE SHERPA | D48: 301 | E48: =VLOOKUP(D48,'SUBJECT CODE'!$B$1:$C$30,2,0) -> English Core | F48: 302 | G48: =VLOOKUP(F48,'SUBJECT CODE'!$B$1:$C$30,2,0) -> HINDI | H48: 48 | I48: =VLOOKUP(H48,'SUBJECT CODE'!$B$1:$C$30,2,0) -> Physical Education | J48: 42 | K48: =VLOOKUP(J48,'SUBJECT CODE'!$B$1:$C$30,2,0) -> Physics | L48: 44 | M48: =VLOOKUP(L48,'SUBJECT CODE'!$B$1:$C$30,2,0) -> Biology | N48: 43 | O48: =VLOOKUP(N48,'SUBJECT CODE'!$B$1:$C$30,2,0) -> Chemistry | P48: B2 | Q48: B1 | R48: B1 | S48: COMP 042 043 | U48: =COUNTBLANK(D48:O48) -> 0 | V48: =IF(U48=1,SUM(N48,L48,K48,H48,F48,D48),"") | W48: =IFERROR(V48/600*100,"") | X48: =IFERROR(RANK(W48,$W$5:$W$215),0) -> 0
D49: 74 | E49: C1 | F49: 56 | G49: D2 | H49: 80 | I49: B2 | J49: 31 | K49: E | L49: 52 | M49: D2 | N49: 31 | O49: E | T49: SCIENCE | U49: =SUM(D49,F49,H49,J49,L49,N49) -> 324 | V49: =U49-MIN(D49,F49,H49,J49,L49,N49) -> 293 | W49: =IFERROR(V49/500*100,"") -> 58.6 | X49: =IFERROR(RANK(W49,$W$5:$W$215),0) -> 86
A50: 16644509 | B50: F | C50: SRIJANA SHARMA | D50: 301 | E50: =VLOOKUP(D50,'SUBJECT CODE'!$B$1:$C$30,2,0) -> English Core | F50: 124 | G50: =VLOOKUP(F50,'SUBJECT CODE'!$B$1:$C$30,2,0) -> NEPALI | H50: 48 | I50: =VLOOKUP(H50,'SUBJECT CODE'!$B$1:$C$30,2,0) -> Physical Education | J50: 42 | K50: =VLOOKUP(J50,'SUBJECT CODE'!$B$1:$C$30,2,0) -> Physics | L50: 44 | M50: =VLOOKUP(L50,'SUBJECT CODE'!$B$1:$C$30,2,0) -> Biology | N50: 43 | O50: =VLOOKUP(N50,'SUBJECT CODE'!$B$1:$C$30,2,0) -> Chemistry | P50: B2 | Q50: B2 | R50: B2 | S50: PASS | U50: =COUNTBLANK(D50:O50) -> 0 | V50: =IF(U50=1,SUM(N50,L50,K50,H50,F50,D50),"") | W50: =IFERROR(V50/600*100,"") | X50: =IFERROR(RANK(W50,$W$5:$W$215),0) -> 0
D51: 86 | E51: B1 | F51: 81 | G51: A2 | H51: 80 | I51: B2 | J51: 50 | K51: D2 | L51: 52 | M51: D2 | N51: 32 | O51: E | T51: SCIENCE | U51: =SUM(D51,F51,H51,J51,L51,N51) -> 381 | V51: =U51-MIN(D51,F51,H51,J51,L51,N51) -> 349 | W51: =IFERROR(V51/500*100,"") -> 69.8 | X51: =IFERROR(RANK(W51,$W$5:$W$215),0) -> 27
A52: 16644510 | B52: F | C52: TRIPTI BISWAKARMA | D52: 301 | E52: =VLOOKUP(D52,'SUBJECT CODE'!$B$1:$C$30,2,0) -> English Core | F52: 124 | G52: =VLOOKUP(F52,'SUBJECT CODE'!$B$1:$C$30,2,0) -> NEPALI | H52: 43 | I52: =VLOOKUP(H52,'SUBJECT CODE'!$B$1:$C$30,2,0) -> Chemistry | J52: 48 | K52: =VLOOKUP(J52,'SUBJECT CODE'!$B$1:$C$30,2,0) -> Physical Education | L52: 44 | M52: =VLOOKUP(L52,'SUBJECT CODE'!$B$1:$C$30,2,0) -> Biology | N52: 42 | O52: =VLOOKUP(N52,'SUBJECT CODE'!$B$1:$C$30,2,0) -> Physics | P52: A1 | Q52: A2 | R52: A2 | S52: PASS | U52: =COUNTBLANK(D52:O52) -> 0 | V52: =IF(U52=1,SUM(N52,L52,K52,H52,F52,D52),"") | W52: =IFERROR(V52/600*100,"") | X52: =IFERROR(RANK(W52,$W$5:$W$215),0) -> 0
D53: 82 | E53: B2 | F53: 94 | G53: A1 | H53: 48 | I53: D2 | J53: 87 | K53: A2 | L53: 69 | M53: C1 | N53: 40 | O53: E | T53: SCIENCE | U53: =SUM(D53,F53,H53,J53,L53,N53) -> 420 | V53: =U53-MIN(D53,F53,H53,J53,L53,N53) -> 380 | W53: =IFERROR(V53/500*100,"") -> 76 | X53: =IFERROR(RANK(W53,$W$5:$W$215),0) -> 14
A54: 16644511 | B54: M | C54: UMESH SHARMA | D54: 301 | E54: =VLOOKUP(D54,'SUBJECT CODE'!$B$1:$C$30,2,0) -> English Core | F54: 124 | G54: =VLOOKUP(F54,'SUBJECT CODE'!$B$1:$C$30,2,0) -> NEPALI | H54: 43 | I54: =VLOOKUP(H54,'SUBJECT CODE'!$B$1:$C$30,2,0) -> Chemistry | J54: 48 | K54: =VLOOKUP(J54,'SUBJECT CODE'!$B$1:$C$30,2,0) -> Physical Education | L54: 44 | M54: =VLOOKUP(L54,'SUBJECT CODE'!$B$1:$C$30,2,0) -> Biology | N54: 42 | O54: =VLOOKUP(N54,'SUBJECT CODE'!$B$1:$C$30,2,0) -> Physics | P54: A2 | Q54: A1 | R54: A1 | S54: PASS | U54: =COUNTBLANK(D54:O54) -> 0 | V54: =IF(U54=1,SUM(N54,L54,K54,H54,F54,D54),"") | W54: =IFERROR(V54/600*100,"") | X54: =IFERROR(RANK(W54,$W$5:$W$215),0) -> 0
D55: 79 | E55: B2 | F55: 85 | G55: A1 | H55: 49 | I55: D2 | J55: 84 | K55: B1 | L55: 60 | M55: C2 | N55: 42 | O55: E | T55: SCIENCE | U55: =SUM(D55,F55,H55,J55,L55,N55) -> 399 | V55: =U55-MIN(D55,F55,H55,J55,L55,N55) -> 357 | W55: =IFERROR(V55/500*100,"") -> 71.4 | X55: =IFERROR(RANK(W55,$W$5:$W$215),0) -> 24
A56: 16644512 | B56: F | C56: ADRINA SEWA | D56: 301 | E56: =VLOOKUP(D56,'SUBJECT CODE'!$B$1:$C$30,2,0) -> English Core | F56: 124 | G56: =VLOOKUP(F56,'SUBJECT CODE'!$B$1:$C$30,2,0) -> NEPALI | H56: 806 | I56: =VLOOKUP(H56,'SUBJECT CODE'!$B$1:$C$30,2,0) -> TOURISM | J56: 810 | K56: =VLOOKUP(J56,'SUBJECT CODE'!$B$1:$C$30,2,0) -> FOO | L56: 29 | M56: =VLOOKUP(L56,'SUBJECT CODE'!$B$1:$C$30,2,0) -> Geography | N56: 48 | O56: =VLOOKUP(N56,'SUBJECT CODE'!$B$1:$C$30,2,0) -> Physical Education | P56: B1 | Q56: B2 | R56: B2 | S56: PASS | U56: =COUNTBLANK(D56:O56) -> 0 | V56: =IF(U56=1,SUM(N56,L56,K56,H56,F56,D56),"") | W56: =IFERROR(V56/600*100,"") | X56: =IFERROR(RANK(W56,$W$5:$W$215),0) -> 0
D57: 83 | E57: B2 | F57: 100 | G57: A1 | H57: 86 | I57: A2 | J57: 80 | K57: C2 | L57: 63 | M57: C2 | N57: 78 | O57: C1 | T57: TTM | U57: =SUM(D57,F57,H57,J57,L57,N57) -> 490 | V57: =U57-MIN(D57,F57,H57,J57,L57,N57) -> 427 | W57: =IFERROR(V57/500*100,"") -> 85.4 | X57: =IFERROR(RANK(W57,$W$5:$W$215),0) -> 2
A58: 16644513 | B58: F | C58: AHALYA THAPA | D58: 301 | E58: =VLOOKUP(D58,'SUBJECT CODE'!$B$1:$C$30,2,0) -> English Core | F58: 124 | G58: =VLOOKUP(F58,'SUBJECT CODE'!$B$1:$C$30,2,0) -> NEPALI | H58: 806 | I58: =VLOOKUP(H58,'SUBJECT CODE'!$B$1:$C$30,2,0) -> TOURISM | J58: 810 | K58: =VLOOKUP(J58,'SUBJECT CODE'!$B$1:$C$30,2,0) -> FOO | L58: 29 | M58: =VLOOKUP(L58,'SUBJECT CODE'!$B$1:$C$30,2,0) -> Geography | N58: 48 | O58: =VLOOKUP(N58,'SUBJECT CODE'!$B$1:$C$30,2,0) -> Physical Education | P58: B2 | Q58: B1 | R58: B1 | S58: PASS | U58: =COUNTBLANK(D58:O58) -> 0 | V58: =IF(U58=1,SUM(N58,L58,K58,H58,F58,D58),"") | W58: =IFERROR(V58/600*100,"") | X58: =IFERROR(RANK(W58,$W$5:$W$215),0) -> 0
D59: 59 | E59: D1 | F59: 60 | G59: C2 | H59: 65 | I59: D1 | J59: 65 | K59: D2 | L59: 50 | M59: D2 | N59: 62 | O59: D1 | T59: TTM | U59: =SUM(D59,F59,H59,J59,L59,N59) -> 361 | V59: =U59-MIN(D59,F59,H59,J59,L59,N59) -> 311 | W59: =IFERROR(V59/500*100,"") -> 62.2 | X59: =IFERROR(RANK(W59,$W$5:$W$215),0) -> 68
A60: 16644514 | B60: F | C60: SNEHA SHARMA | D60: 301 | E60: =VLOOKUP(D60,'SUBJECT CODE'!$B$1:$C$30,2,0) -> English Core | F60: 302 | G60: =VLOOKUP(F60,'SUBJECT CODE'!$B$1:$C$30,2,0) -> HINDI | H60: 806 | I60: =VLOOKUP(H60,'SUBJECT CODE'!$B$1:$C$30,2,0) -> TOURISM | J60: 810 | K60: =VLOOKUP(J60,'SUBJECT CODE'!$B$1:$C$30,2,0) -> FOO | L60: 29 | M60: =VLOOKUP(L60,'SUBJECT CODE'!$B$1:$C$30,2,0) -> Geography | N60: 48 | O60: =VLOOKUP(N60,'SUBJECT CODE'!$B$1:$C$30,2,0) -> Physical Education | P60: B2 | Q60: B2 | R60: B2 | S60: PASS | U60: =COUNTBLANK(D60:O60) -> 0 | V60: =IF(U60=1,SUM(N60,L60,K60,H60,F60,D60),"") | W60: =IFERROR(V60/600*100,"") | X60: =IFERROR(RANK(W60,$W$5:$W$215),0) -> 0
D61: 62 | E61: D1 | F61: 49 | G61: D2 | H61: 66 | I61: C2 | J61: 73 | K61: D1 | L61: 54 | M61: D1 | N61: 61 | O61: D1 | T61: TTM | U61: =SUM(D61,F61,H61,J61,L61,N61) -> 365 | V61: =U61-MIN(D61,F61,H61,J61,L61,N61) -> 316 | W61: =IFERROR(V61/500*100,"") -> 63.2 | X61: =IFERROR(RANK(W61,$W$5:$W$215),0) -> 64
A62: 16644515 | B62: F | C62: ISHWARI KARKI | D62: 301 | E62: =VLOOKUP(D62,'SUBJECT CODE'!$B$1:$C$30,2,0) -> English Core | F62: 124 | G62: =VLOOKUP(F62,'SUBJECT CODE'!$B$1:$C$30,2,0) -> NEPALI | H62: 806 | I62: =VLOOKUP(H62,'SUBJECT CODE'!$B$1:$C$30,2,0) -> TOURISM | J62: 810 | K62: =VLOOKUP(J62,'SUBJECT CODE'!$B$1:$C$30,2,0) -> FOO | L62: 29 | M62: =VLOOKUP(L62,'SUBJECT CODE'!$B$1:$C$30,2,0) -> Geography | N62: 48 | O62: =VLOOKUP(N62,'SUBJECT CODE'!$B$1:$C$30,2,0) -> Physical Education | P62: B2 | Q62: B2 | R62: B2 | S62: PASS | U62: =COUNTBLANK(D62:O62) -> 0 | V62: =IF(U62=1,SUM(N62,L62,K62,H62,F62,D62),"") | W62: =IFERROR(V62/600*100,"") | X62: =IFERROR(RANK(W62,$W$5:$W$215),0) -> 0
D63: 58 | E63: D1 | F63: 68 | G63: C1 | H63: 75 | I63: B2 | J63: 61 | K63: D2 | L63: 51 | M63: D2 | N63: 56 | O63: D2 | T63: TTM | U63: =SUM(D63,F63,H63,J63,L63,N63) -> 369 | V63: =U63-MIN(D63,F63,H63,J63,L63,N63) -> 318 | W63: =IFERROR(V63/500*100,"") -> 63.6 | X63: =IFERROR(RANK(W63,$W$5:$W$215),0) -> 61
A64: 16644516 | B64: F | C64: SAMJANA CHETTRI | D64: 301 | E64: =VLOOKUP(D64,'SUBJECT CODE'!$B$1:$C$30,2,0) -> English Core | F64: 302 | G64: =VLOOKUP(F64,'SUBJECT CODE'!$B$1:$C$30,2,0) -> HINDI | H64: 806 | I64: =VLOOKUP(H64,'SUBJECT CODE'!$B$1:$C$30,2,0) -> TOURISM | J64: 810 | K64: =VLOOKUP(J64,'SUBJECT CODE'!$B$1:$C$30,2,0) -> FOO | L64: 29 | M64: =VLOOKUP(L64,'SUBJECT CODE'!$B$1:$C$30,2,0) -> Geography | N64: 48 | O64: =VLOOKUP(N64,'SUBJECT CODE'!$B$1:$C$30,2,0) -> Physical Education | P64: B2 | Q64: B2 | R64: B2 | S64: PASS | U64: =COUNTBLANK(D64:O64) -> 0 | V64: =IF(U64=1,SUM(N64,L64,K64,H64,F64,D64),"") | W64: =IFERROR(V64/600*100,"") | X64: =IFERROR(RANK(W64,$W$5:$W$215),0) -> 0
D65: 67 | E65: C2 | F65: 49 | G65: D2 | H65: 72 | I65: C1 | J65: 66 | K65: D2 | L65: 61 | M65: C2 | N65: 57 | O65: D2 | T65: TTM | U65: =SUM(D65,F65,H65,J65,L65,N65) -> 372 | V65: =U65-MIN(D65,F65,H65,J65,L65,N65) -> 323 | W65: =IFERROR(V65/500*100,"") -> 64.6 | X65: =IFERROR(RANK(W65,$W$5:$W$215),0) -> 56
A66: 16644517 | B66: M | C66: DAWA SHERPA | D66: 301 | E66: =VLOOKUP(D66,'SUBJECT CODE'!$B$1:$C$30,2,0) -> English Core | F66: 302 | G66: =VLOOKUP(F66,'SUBJECT CODE'!$B$1:$C$30,2,0) -> HINDI | H66: 806 | I66: =VLOOKUP(H66,'SUBJECT CODE'!$B$1:$C$30,2,0) -> TOURISM | J66: 810 | K66: =VLOOKUP(J66,'SUBJECT CODE'!$B$1:$C$30,2,0) -> FOO | L66: 29 | M66: =VLOOKUP(L66,'SUBJECT CODE'!$B$1:$C$30,2,0) -> Geography | N66: 48 | O66: =VLOOKUP(N66,'SUBJECT CODE'!$B$1:$C$30,2,0) -> Physical Education | P66: B2 | Q66: B2 | R66: B2 | S66: PASS | U66: =COUNTBLANK(D66:O66) -> 0 | V66: =IF(U66=1,SUM(N66,L66,K66,H66,F66,D66),"") | W66: =IFERROR(V66/600*100,"") | X66: =IFERROR(RANK(W66,$W$5:$W$215),0) -> 0
D67: 61 | E67: D1 | F67: 46 | G67: D2 | H67: 67 | I67: C2 | J67: 68 | K67: D2 | L67: 49 | M67: D2 | N67: 56 | O67: D2 | T67: TTM | U67: =SUM(D67,F67,H67,J67,L67,N67) -> 347 | V67: =U67-MIN(D67,F67,H67,J67,L67,N67) -> 301 | W67: =IFERROR(V67/500*100,"") -> 60.2 | X67: =IFERROR(RANK(W67,$W$5:$W$215),0) -> 76
A68: 16644518 | B68: M | C68: BHAI SHERPA | D68: 301 | E68: =VLOOKUP(D68,'SUBJECT CODE'!$B$1:$C$30,2,0) -> English Core | F68: 302 | G68: =VLOOKUP(F68,'SUBJECT CODE'!$B$1:$C$30,2,0) -> HINDI | H68: 806 | I68: =VLOOKUP(H68,'SUBJECT CODE'!$B$1:$C$30,2,0) -> TOURISM | J68: 810 | K68: =VLOOKUP(J68,'SUBJECT CODE'!$B$1:$C$30,2,0) -> FOO | L68: 29 | M68: =VLOOKUP(L68,'SUBJECT CODE'!$B$1:$C$30,2,0) -> Geography | N68: 48 | O68: =VLOOKUP(N68,'SUBJECT CODE'!$B$1:$C$30,2,0) -> Physical Education | P68: B2 | Q68: B1 | R68: B1 | S68: PASS | U68: =COUNTBLANK(D68:O68) -> 0 | V68: =IF(U68=1,SUM(N68,L68,K68,H68,F68,D68),"") | W68: =IFERROR(V68/600*100,"") | X68: =IFERROR(RANK(W68,$W$5:$W$215),0) -> 0
D69: 70 | E69: C2 | F69: 48 | G69: D2 | H69: 65 | I69: D1 | J69: 74 | K69: D1 | L69: 54 | M69: D1 | N69: 70 | O69: C2 | T69: TTM | U69: =SUM(D69,F69,H69,J69,L69,N69) -> 381 | V69: =U69-MIN(D69,F69,H69,J69,L69,N69) -> 333 | W69: =IFERROR(V69/500*100,"") -> 66.6 | X69: =IFERROR(RANK(W69,$W$5:$W$215),0) -> 45
A70: 16644519 | B70: F | C70: AISHA MISHRA | D70: 301 | E70: =VLOOKUP(D70,'SUBJECT CODE'!$B$1:$C$30,2,0) -> English Core | F70: 124 | G70: =VLOOKUP(F70,'SUBJECT CODE'!$B$1:$C$30,2,0) -> NEPALI | H70: 806 | I70: =VLOOKUP(H70,'SUBJECT CODE'!$B$1:$C$30,2,0) -> TOURISM | J70: 810 | K70: =VLOOKUP(J70,'SUBJECT CODE'!$B$1:$C$30,2,0) -> FOO | L70: 29 | M70: =VLOOKUP(L70,'SUBJECT CODE'!$B$1:$C$30,2,0) -> Geography | N70: 48 | O70: =VLOOKUP(N70,'SUBJECT CODE'!$B$1:$C$30,2,0) -> Physical Education | P70: B1 | Q70: B1 | R70: B1 | S70: PASS | U70: =COUNTBLANK(D70:O70) -> 0 | V70: =IF(U70=1,SUM(N70,L70,K70,H70,F70,D70),"") | W70: =IFERROR(V70/600*100,"") | X70: =IFERROR(RANK(W70,$W$5:$W$215),0) -> 0
D71: 63 | E71: D1 | F71: 59 | G71: C2 | H71: 72 | I71: C1 | J71: 63 | K71: D2 | L71: 49 | M71: D2 | N71: 57 | O71: D2 | T71: TTM | U71: =SUM(D71,F71,H71,J71,L71,N71) -> 363 | V71: =U71-MIN(D71,F71,H71,J71,L71,N71) -> 314 | W71: =IFERROR(V71/500*100,"") -> 62.8 | X71: =IFERROR(RANK(W71,$W$5:$W$215),0) -> 66
A72: 16644520 | B72: M | C72: SISHIR MANGER | D72: 301 | E72: =VLOOKUP(D72,'SUBJECT CODE'!$B$1:$C$30,2,0) -> English Core | F72: 302 | G72: =VLOOKUP(F72,'SUBJECT CODE'!$B$1:$C$30,2,0) -> HINDI | H72: 806 | I72: =VLOOKUP(H72,'SUBJECT CODE'!$B$1:$C$30,2,0) -> TOURISM | J72: 810 | K72: =VLOOKUP(J72,'SUBJECT CODE'!$B$1:$C$30,2,0) -> FOO | L72: 29 | M72: =VLOOKUP(L72,'SUBJECT CODE'!$B$1:$C$30,2,0) -> Geography | N72: 48 | O72: =VLOOKUP(N72,'SUBJECT CODE'!$B$1:$C$30,2,0) -> Physical Education | P72: B2 | Q72: B2 | R72: B2 | S72: PASS | U72: =COUNTBLANK(D72:O72) -> 0 | V72: =IF(U72=1,SUM(N72,L72,K72,H72,F72,D72),"") | W72: =IFERROR(V72/600*100,"") | X72: =IFERROR(RANK(W72,$W$5:$W$215),0) -> 0
D73: 73 | E73: C2 | F73: 46 | G73: D2 | H73: 74 | I73: B2 | J73: 66 | K73: D2 | L73: 77 | M73: B1 | N73: 59 | O73: D2 | T73: TTM | U73: =SUM(D73,F73,H73,J73,L73,N73) -> 395 | V73: =U73-MIN(D73,F73,H73,J73,L73,N73) -> 349 | W73: =IFERROR(V73/500*100,"") -> 69.8 | X73: =IFERROR(RANK(W73,$W$5:$W$215),0) -> 27
A74: 16644521 | B74: F | C74: GANGA CHETTRI | D74: 301 | E74: =VLOOKUP(D74,'SUBJECT CODE'!$B$1:$C$30,2,0) -> English Core | F74: 124 | G74: =VLOOKUP(F74,'SUBJECT CODE'!$B$1:$C$30,2,0) -> NEPALI | H74: 806 | I74: =VLOOKUP(H74,'SUBJECT CODE'!$B$1:$C$30,2,0) -> TOURISM | J74: 810 | K74: =VLOOKUP(J74,'SUBJECT CODE'!$B$1:$C$30,2,0) -> FOO | L74: 29 | M74: =VLOOKUP(L74,'SUBJECT CODE'!$B$1:$C$30,2,0) -> Geography | N74: 48 | O74: =VLOOKUP(N74,'SUBJECT CODE'!$B$1:$C$30,2,0) -> Physical Education | P74: B2 | Q74: B2 | R74: B2 | S74: PASS | U74: =COUNTBLANK(D74:O74) -> 0 | V74: =IF(U74=1,SUM(N74,L74,K74,H74,F74,D74),"") | W74: =IFERROR(V74/600*100,"") | X74: =IFERROR(RANK(W74,$W$5:$W$215),0) -> 0
D75: 52 | E75: D2 | F75: 66 | G75: C1 | H75: 60 | I75: D1 | J75: 64 | K75: D2 | L75: 50 | M75: D2 | N75: 64 | O75: D1 | T75: TTM | U75: =SUM(D75,F75,H75,J75,L75,N75) -> 356 | V75: =U75-MIN(D75,F75,H75,J75,L75,N75) -> 306 | W75: =IFERROR(V75/500*100,"") -> 61.2 | X75: =IFERROR(RANK(W75,$W$5:$W$215),0) -> 72
A76: 16644522 | B76: F | C76: REEMA GURUNG | D76: 301 | E76: =VLOOKUP(D76,'SUBJECT CODE'!$B$1:$C$30,2,0) -> English Core | F76: 124 | G76: =VLOOKUP(F76,'SUBJECT CODE'!$B$1:$C$30,2,0) -> NEPALI | H76: 806 | I76: =VLOOKUP(H76,'SUBJECT CODE'!$B$1:$C$30,2,0) -> TOURISM | J76: 810 | K76: =VLOOKUP(J76,'SUBJECT CODE'!$B$1:$C$30,2,0) -> FOO | L76: 29 | M76: =VLOOKUP(L76,'SUBJECT CODE'!$B$1:$C$30,2,0) -> Geography | N76: 48 | O76: =VLOOKUP(N76,'SUBJECT CODE'!$B$1:$C$30,2,0) -> Physical Education | P76: B2 | Q76: B2 | R76: B2 | S76: PASS | U76: =COUNTBLANK(D76:O76) -> 0 | V76: =IF(U76=1,SUM(N76,L76,K76,H76,F76,D76),"") | W76: =IFERROR(V76/600*100,"") | X76: =IFERROR(RANK(W76,$W$5:$W$215),0) -> 0
D77: 63 | E77: D1 | F77: 53 | G77: D1 | H77: 73 | I77: C1 | J77: 52 | K77: D2 | L77: 49 | M77: D2 | N77: 50 | O77: D2 | T77: TTM | U77: =SUM(D77,F77,H77,J77,L77,N77) -> 340 | V77: =U77-MIN(D77,F77,H77,J77,L77,N77) -> 291 | W77: =IFERROR(V77/500*100,"") -> 58.2 | X77: =IFERROR(RANK(W77,$W$5:$W$215),0) -> 88
A78: 16644523 | B78: F | C78: PRASANSA RAI | D78: 301 | E78: =VLOOKUP(D78,'SUBJECT CODE'!$B$1:$C$30,2,0) -> English Core | F78: 48 | G78: =VLOOKUP(F78,'SUBJECT CODE'!$B$1:$C$30,2,0) -> Physical Education | H78: 806 | I78: =VLOOKUP(H78,'SUBJECT CODE'!$B$1:$C$30,2,0) -> TOURISM | J78: 810 | K78: =VLOOKUP(J78,'SUBJECT CODE'!$B$1:$C$30,2,0) -> FOO | L78: 29 | M78: =VLOOKUP(L78,'SUBJECT CODE'!$B$1:$C$30,2,0) -> Geography | N78: 302 | O78: =VLOOKUP(N78,'SUBJECT CODE'!$B$1:$C$30,2,0) -> HINDI | P78: B2 | Q78: B2 | R78: B2 | S78: PASS | U78: =COUNTBLANK(D78:O78) -> 0 | V78: =IF(U78=1,SUM(N78,L78,K78,H78,F78,D78),"") | W78: =IFERROR(V78/600*100,"") | X78: =IFERROR(RANK(W78,$W$5:$W$215),0) -> 0
D79: 63 | E79: D1 | F79: 59 | G79: D2 | H79: 67 | I79: C2 | J79: 67 | K79: D2 | L79: 48 | M79: D2 | N79: 31 | O79: E | T79: TTM | U79: =SUM(D79,F79,H79,J79,L79,N79) -> 335 | V79: =U79-MIN(D79,F79,H79,J79,L79,N79) -> 304 | W79: =IFERROR(V79/500*100,"") -> 60.8 | X79: =IFERROR(RANK(W79,$W$5:$W$215),0) -> 73
A80: 16644524 | B80: F | C80: DAMBER KUMARI CHETTRI | D80: 301 | E80: =VLOOKUP(D80,'SUBJECT CODE'!$B$1:$C$30,2,0) -> English Core | F80: 124 | G80: =VLOOKUP(F80,'SUBJECT CODE'!$B$1:$C$30,2,0) -> NEPALI | H80: 806 | I80: =VLOOKUP(H80,'SUBJECT CODE'!$B$1:$C$30,2,0) -> TOURISM | J80: 810 | K80: =VLOOKUP(J80,'SUBJECT CODE'!$B$1:$C$30,2,0) -> FOO | L80: 29 | M80: =VLOOKUP(L80,'SUBJECT CODE'!$B$1:$C$30,2,0) -> Geography | N80: 48 | O80: =VLOOKUP(N80,'SUBJECT CODE'!$B$1:$C$30,2,0) -> Physical Education | P80: B1 | Q80: B2 | R80: B1 | S80: PASS | U80: =COUNTBLANK(D80:O80) -> 0 | V80: =IF(U80=1,SUM(N80,L80,K80,H80,F80,D80),"") | W80: =IFERROR(V80/600*100,"") | X80: =IFERROR(RANK(W80,$W$5:$W$215),0) -> 0
D81: 57 | E81: D1 | F81: 80 | G81: A2 | H81: 77 | I81: B1 | J81: 77 | K81: C2 | L81: 62 | M81: C2 | N81: 69 | O81: C2 | T81: TTM | U81: =SUM(D81,F81,H81,J81,L81,N81) -> 422 | V81: =U81-MIN(D81,F81,H81,J81,L81,N81) -> 365 | W81: =IFERROR(V81/500*100,"") -> 73 | X81: =IFERROR(RANK(W81,$W$5:$W$215),0) -> 19
A82: 16644525 | B82: F | C82: RACHANA CHETTRI | D82: 301 | E82: =VLOOKUP(D82,'SUBJECT CODE'!$B$1:$C$30,2,0) -> English Core | F82: 124 | G82: =VLOOKUP(F82,'SUBJECT CODE'!$B$1:$C$30,2,0) -> NEPALI | H82: 806 | I82: =VLOOKUP(H82,'SUBJECT CODE'!$B$1:$C$30,2,0) -> TOURISM | J82: 810 | K82: =VLOOKUP(J82,'SUBJECT CODE'!$B$1:$C$30,2,0) -> FOO | L82: 29 | M82: =VLOOKUP(L82,'SUBJECT CODE'!$B$1:$C$30,2,0) -> Geography | N82: 48 | O82: =VLOOKUP(N82,'SUBJECT CODE'!$B$1:$C$30,2,0) -> Physical Education | P82: B2 | Q82: B2 | R82: B2 | S82: PASS | U82: =COUNTBLANK(D82:O82) -> 0 | V82: =IF(U82=1,SUM(N82,L82,K82,H82,F82,D82),"") | W82: =IFERROR(V82/600*100,"") | X82: =IFERROR(RANK(W82,$W$5:$W$215),0) -> 0
D83: 73 | E83: C2 | F83: 70 | G83: B2 | H83: 67 | I83: C2 | J83: 65 | K83: D2 | L83: 50 | M83: D2 | N83: 50 | O83: D2 | T83: TTM | U83: =SUM(D83,F83,H83,J83,L83,N83) -> 375 | V83: =U83-MIN(D83,F83,H83,J83,L83,N83) -> 325 | W83: =IFERROR(V83/500*100,"") -> 65 | X83: =IFERROR(RANK(W83,$W$5:$W$215),0) -> 53
A84: 16644526 | B84: F | C84: TSHERINGKI PALMU | D84: 301 | E84: =VLOOKUP(D84,'SUBJECT CODE'!$B$1:$C$30,2,0) -> English Core | F84: 302 | G84: =VLOOKUP(F84,'SUBJECT CODE'!$B$1:$C$30,2,0) -> HINDI | H84: 806 | I84: =VLOOKUP(H84,'SUBJECT CODE'!$B$1:$C$30,2,0) -> TOURISM | J84: 810 | K84: =VLOOKUP(J84,'SUBJECT CODE'!$B$1:$C$30,2,0) -> FOO | L84: 29 | M84: =VLOOKUP(L84,'SUBJECT CODE'!$B$1:$C$30,2,0) -> Geography | N84: 48 | O84: =VLOOKUP(N84,'SUBJECT CODE'!$B$1:$C$30,2,0) -> Physical Education | P84: B1 | Q84: B1 | R84: B2 | S84: PASS | U84: =COUNTBLANK(D84:O84) -> 0 | V84: =IF(U84=1,SUM(N84,L84,K84,H84,F84,D84),"") | W84: =IFERROR(V84/600*100,"") | X84: =IFERROR(RANK(W84,$W$5:$W$215),0) -> 0
D85: 75 | E85: C1 | F85: 62 | G85: D1 | H85: 59 | I85: D2 | J85: 66 | K85: D2 | L85: 52 | M85: D2 | N85: 55 | O85: D2 | T85: TTM | U85: =SUM(D85,F85,H85,J85,L85,N85) -> 369 | V85: =U85-MIN(D85,F85,H85,J85,L85,N85) -> 317 | W85: =IFERROR(V85/500*100,"") -> 63.4 | X85: =IFERROR(RANK(W85,$W$5:$W$215),0) -> 62
A86: 16644527 | B86: F | C86: ALISHA RAI | D86: 301 | E86: =VLOOKUP(D86,'SUBJECT CODE'!$B$1:$C$30,2,0) -> English Core | F86: 124 | G86: =VLOOKUP(F86,'SUBJECT CODE'!$B$1:$C$30,2,0) -> NEPALI | H86: 806 | I86: =VLOOKUP(H86,'SUBJECT CODE'!$B$1:$C$30,2,0) -> TOURISM | J86: 810 | K86: =VLOOKUP(J86,'SUBJECT CODE'!$B$1:$C$30,2,0) -> FOO | L86: 29 | M86: =VLOOKUP(L86,'SUBJECT CODE'!$B$1:$C$30,2,0) -> Geography | N86: 48 | O86: =VLOOKUP(N86,'SUBJECT CODE'!$B$1:$C$30,2,0) -> Physical Education | P86: B1 | Q86: B1 | R86: B1 | S86: PASS | U86: =COUNTBLANK(D86:O86) -> 0 | V86: =IF(U86=1,SUM(N86,L86,K86,H86,F86,D86),"") | W86: =IFERROR(V86/600*100,"") | X86: =IFERROR(RANK(W86,$W$5:$W$215),0) -> 0
D87: 50 | E87: D2 | F87: 45 | G87: D2 | H87: 68 | I87: C2 | J87: 64 | K87: D2 | L87: 50 | M87: D2 | N87: 51 | O87: D2 | T87: TTM | U87: =SUM(D87,F87,H87,J87,L87,N87) -> 328 | V87: =U87-MIN(D87,F87,H87,J87,L87,N87) -> 283 | W87: =IFERROR(V87/500*100,"") -> 56.6 | X87: =IFERROR(RANK(W87,$W$5:$W$215),0) -> 95
A88: 16644528 | B88: F | C88: MINGMA TSHERING SHERPA | D88: 301 | E88: =VLOOKUP(D88,'SUBJECT CODE'!$B$1:$C$30,2,0) -> English Core | F88: 124 | G88: =VLOOKUP(F88,'SUBJECT CODE'!$B$1:$C$30,2,0) -> NEPALI | H88: 806 | I88: =VLOOKUP(H88,'SUBJECT CODE'!$B$1:$C$30,2,0) -> TOURISM | J88: 810 | K88: =VLOOKUP(J88,'SUBJECT CODE'!$B$1:$C$30,2,0) -> FOO | L88: 29 | M88: =VLOOKUP(L88,'SUBJECT CODE'!$B$1:$C$30,2,0) -> Geography | N88: 48 | O88: =VLOOKUP(N88,'SUBJECT CODE'!$B$1:$C$30,2,0) -> Physical Education | P88: B1 | Q88: B1 | R88: B2 | S88: PASS | U88: =COUNTBLANK(D88:O88) -> 0 | V88: =IF(U88=1,SUM(N88,L88,K88,H88,F88,D88),"") | W88: =IFERROR(V88/600*100,"") | X88: =IFERROR(RANK(W88,$W$5:$W$215),0) -> 0
D89: 73 | E89: C2 | F89: 57 | G89: D1 | H89: 70 | I89: C1 | J89: 66 | K89: D2 | L89: 54 | M89: D1 | N89: 68 | O89: C2 | T89: TTM | U89: =SUM(D89,F89,H89,J89,L89,N89) -> 388 | V89: =U89-MIN(D89,F89,H89,J89,L89,N89) -> 334 | W89: =IFERROR(V89/500*100,"") -> 66.8 | X89: =IFERROR(RANK(W89,$W$5:$W$215),0) -> 43
A90: 16644529 | B90: M | C90: ARON GURUNG | D90: 301 | E90: =VLOOKUP(D90,'SUBJECT CODE'!$B$1:$C$30,2,0) -> English Core | F90: 124 | G90: =VLOOKUP(F90,'SUBJECT CODE'!$B$1:$C$30,2,0) -> NEPALI | H90: 802 | I90: =VLOOKUP(H90,'SUBJECT CODE'!$B$1:$C$30,2,0) -> Information Technology (IT) | J90: 803 | K90: =VLOOKUP(J90,'SUBJECT CODE'!$B$1:$C$30,2,0) -> WEB APP | L90: 48 | M90: =VLOOKUP(L90,'SUBJECT CODE'!$B$1:$C$30,2,0) -> Physical Education | N90: 41 | O90: =VLOOKUP(N90,'SUBJECT CODE'!$B$1:$C$30,2,0) -> Mathematics | P90: B2 | Q90: B2 | R90: B2 | S90: PASS | U90: =COUNTBLANK(D90:O90) -> 0 | V90: =IF(U90=1,SUM(N90,L90,K90,H90,F90,D90),"") | W90: =IFERROR(V90/600*100,"") | X90: =IFERROR(RANK(W90,$W$5:$W$215),0) -> 0
D91: 72 | E91: C2 | F91: 64 | G91: C1 | H91: 70 | I91: C2 | J91: 73 | K91: C2 | L91: 68 | M91: C2 | N91: 37 | O91: E | T91: IT | U91: =SUM(D91,F91,H91,J91,L91,N91) -> 384 | V91: =U91-MIN(D91,F91,H91,J91,L91,N91) -> 347 | W91: =IFERROR(V91/500*100,"") -> 69.4 | X91: =IFERROR(RANK(W91,$W$5:$W$215),0) -> 30
A92: 16644530 | B92: M | C92: DAWA TAMANG | D92: 301 | E92: =VLOOKUP(D92,'SUBJECT CODE'!$B$1:$C$30,2,0) -> English Core | F92: 124 | G92: =VLOOKUP(F92,'SUBJECT CODE'!$B$1:$C$30,2,0) -> NEPALI | H92: 802 | I92: =VLOOKUP(H92,'SUBJECT CODE'!$B$1:$C$30,2,0) -> Information Technology (IT) | J92: 803 | K92: =VLOOKUP(J92,'SUBJECT CODE'!$B$1:$C$30,2,0) -> WEB APP | L92: 54 | M92: =VLOOKUP(L92,'SUBJECT CODE'!$B$1:$C$30,2,0) -> Business Studies | N92: 48 | O92: =VLOOKUP(N92,'SUBJECT CODE'!$B$1:$C$30,2,0) -> Physical Education | P92: B2 | Q92: B2 | R92: B1 | S92: PASS | U92: =COUNTBLANK(D92:O92) -> 0 | V92: =IF(U92=1,SUM(N92,L92,K92,H92,F92,D92),"") | W92: =IFERROR(V92/600*100,"") | X92: =IFERROR(RANK(W92,$W$5:$W$215),0) -> 0
D93: 77 | E93: C1 | F93: 75 | G93: B1 | H93: 78 | I93: B2 | J93: 78 | K93: C1 | L93: 54 | M93: C2 | N93: 81 | O93: B2 | T93: IT | U93: =SUM(D93,F93,H93,J93,L93,N93) -> 443 | V93: =U93-MIN(D93,F93,H93,J93,L93,N93) -> 389 | W93: =IFERROR(V93/500*100,"") -> 77.8 | X93: =IFERROR(RANK(W93,$W$5:$W$215),0) -> 11
A94: 16644531 | B94: M | C94: NIRMAL RAI | D94: 301 | E94: =VLOOKUP(D94,'SUBJECT CODE'!$B$1:$C$30,2,0) -> English Core | F94: 124 | G94: =VLOOKUP(F94,'SUBJECT CODE'!$B$1:$C$30,2,0) -> NEPALI | H94: 802 | I94: =VLOOKUP(H94,'SUBJECT CODE'!$B$1:$C$30,2,0) -> Information Technology (IT) | J94: 803 | K94: =VLOOKUP(J94,'SUBJECT CODE'!$B$1:$C$30,2,0) -> WEB APP | L94: 54 | M94: =VLOOKUP(L94,'SUBJECT CODE'!$B$1:$C$30,2,0) -> Business Studies | N94: 48 | O94: =VLOOKUP(N94,'SUBJECT CODE'!$B$1:$C$30,2,0) -> Physical Education | P94: B2 | Q94: B1 | R94: B1 | S94: PASS | U94: =COUNTBLANK(D94:O94) -> 0 | V94: =IF(U94=1,SUM(N94,L94,K94,H94,F94,D94),"") | W94: =IFERROR(V94/600*100,"") | X94: =IFERROR(RANK(W94,$W$5:$W$215),0) -> 0
D95: 69 | E95: C2 | F95: 66 | G95: C1 | H95: 72 | I95: C2 | J95: 65 | K95: D1 | L95: 44 | M95: D2 | N95: 76 | O95: C1 | T95: IT | U95: =SUM(D95,F95,H95,J95,L95,N95) -> 392 | V95: =U95-MIN(D95,F95,H95,J95,L95,N95) -> 348 | W95: =IFERROR(V95/500*100,"") -> 69.6 | X95: =IFERROR(RANK(W95,$W$5:$W$215),0) -> 29
A96: 16644532 | B96: F | C96: PUZA CHETTRI | D96: 301 | E96: =VLOOKUP(D96,'SUBJECT CODE'!$B$1:$C$30,2,0) -> English Core | F96: 124 | G96: =VLOOKUP(F96,'SUBJECT CODE'!$B$1:$C$30,2,0) -> NEPALI | H96: 802 | I96: =VLOOKUP(H96,'SUBJECT CODE'!$B$1:$C$30,2,0) -> Information Technology (IT) | J96: 803 | K96: =VLOOKUP(J96,'SUBJECT CODE'!$B$1:$C$30,2,0) -> WEB APP | L96: 54 | M96: =VLOOKUP(L96,'SUBJECT CODE'!$B$1:$C$30,2,0) -> Business Studies | N96: 48 | O96: =VLOOKUP(N96,'SUBJECT CODE'!$B$1:$C$30,2,0) -> Physical Education | P96: B1 | Q96: B1 | R96: B2 | S96: PASS | U96: =COUNTBLANK(D96:O96) -> 0 | V96: =IF(U96=1,SUM(N96,L96,K96,H96,F96,D96),"") | W96: =IFERROR(V96/600*100,"") | X96: =IFERROR(RANK(W96,$W$5:$W$215),0) -> 0
D97: 63 | E97: D1 | F97: 64 | G97: C1 | H97: 54 | I97: D2 | J97: 55 | K97: D2 | L97: 39 | M97: D2 | N97: 58 | O97: D2 | T97: IT | U97: =SUM(D97,F97,H97,J97,L97,N97) -> 333 | V97: =U97-MIN(D97,F97,H97,J97,L97,N97) -> 294 | W97: =IFERROR(V97/500*100,"") -> 58.8 | X97: =IFERROR(RANK(W97,$W$5:$W$215),0) -> 85
A98: 16644533 | B98: M | C98: RAHUL CHETTRI | D98: 301 | E98: =VLOOKUP(D98,'SUBJECT CODE'!$B$1:$C$30,2,0) -> English Core | F98: 124 | G98: =VLOOKUP(F98,'SUBJECT CODE'!$B$1:$C$30,2,0) -> NEPALI | H98: 802 | I98: =VLOOKUP(H98,'SUBJECT CODE'!$B$1:$C$30,2,0) -> Information Technology (IT) | J98: 803 | K98: =VLOOKUP(J98,'SUBJECT CODE'!$B$1:$C$30,2,0) -> WEB APP | L98: 54 | M98: =VLOOKUP(L98,'SUBJECT CODE'!$B$1:$C$30,2,0) -> Business Studies | N98: 48 | O98: =VLOOKUP(N98,'SUBJECT CODE'!$B$1:$C$30,2,0) -> Physical Education | P98: B2 | Q98: B1 | R98: B2 | S98: PASS | U98: =COUNTBLANK(D98:O98) -> 0 | V98: =IF(U98=1,SUM(N98,L98,K98,H98,F98,D98),"") | W98: =IFERROR(V98/600*100,"") | X98: =IFERROR(RANK(W98,$W$5:$W$215),0) -> 0
D99: 63 | E99: D1 | F99: 47 | G99: D2 | H99: 63 | I99: D1 | J99: 58 | K99: D2 | L99: 46 | M99: D2 | N99: 52 | O99: D2 | T99: IT | U99: =SUM(D99,F99,H99,J99,L99,N99) -> 329 | V99: =U99-MIN(D99,F99,H99,J99,L99,N99) -> 283 | W99: =IFERROR(V99/500*100,"") -> 56.6 | X99: =IFERROR(RANK(W99,$W$5:$W$215),0) -> 95
A100: 16644534 | B100: M | C100: RUP NARAYAN CHETTRI | D100: 301 | E100: =VLOOKUP(D100,'SUBJECT CODE'!$B$1:$C$30,2,0) -> English Core | F100: 124 | G100: =VLOOKUP(F100,'SUBJECT CODE'!$B$1:$C$30,2,0) -> NEPALI | H100: 802 | I100: =VLOOKUP(H100,'SUBJECT CODE'!$B$1:$C$30,2,0) -> Information Technology (IT) | J100: 803 | K100: =VLOOKUP(J100,'SUBJECT CODE'!$B$1:$C$30,2,0) -> WEB APP | L100: 54 | M100: =VLOOKUP(L100,'SUBJECT CODE'!$B$1:$C$30,2,0) -> Business Studies | N100: 48 | O100: =VLOOKUP(N100,'SUBJECT CODE'!$B$1:$C$30,2,0) -> Physical Education | P100: B1 | Q100: B1 | R100: B1 | S100: PASS | U100: =COUNTBLANK(D100:O100) -> 0 | V100: =IF(U100=1,SUM(N100,L100,K100,H100,F100,D100),"") | W100: =IFERROR(V100/600*100,"") | X100: =IFERROR(RANK(W100,$W$5:$W$215),0) -> 0
...

Sheet SUBJECTWISE ANALYSIS
B1: PMSHRI CLS GSSS CHUJACHEN CBSE RESULT XII 2026
B2: SUBJECTWISE ANALYSIS
A3: TOTAL CANDIDATES | B3: PASS BUT SUB FAIL | C3: TOTAL STUDENTS | D3: PASS | E3: COMPT | F3: ESSENTIAL REPEAT | G3: SUBJECT FAIL TOTAL | H3: PASS % | I3: FAIL % | J3: TOTAL STUDENTS | K3: PASS | L3: SUBJECT FAIL TOTAL | M3: SCHOOL TOPPER LIST
A4: OVERALL | B4: 0 | C4: =SUM(B4,D4,E4,F4) -> 106 | D4: 89 | E4: 11 | F4: 6 | H4: =K4/J4% -> 83.962264 | I4: =L4/J4% -> 0 | J4: 106 | K4: 89 | M4: SL NO | N4: STREAM | O4: NAME OF STUDENT | P4: SCHOOL NAME | Q4: PERCENTAGE BEST OF 5 ( EXCLUDING ADDITIONAL SUBJECT) | R4: LOCAL/ NON LOCAL
A5: SCI | C5: =SUM(B5,D5,E5,F5) -> 26 | D5: 11 | E5: 10 | F5: 5 | G5: =SUM(B5,E5,F5) -> 15 | H5: =K5/J5% -> 42.307692 | I5: =L5/J5% -> 57.692308 | J5: 26 | K5: 11 | L5: 15 | M5: 1 | N5: ARTS | O5: ROSHNA SUNAM | P5: CLS CHUJACHEN SSS | Q5: 0.832 | R5: NON LOCAL
A6: MATH | B6: 0 | C6: =SUM(B6,D6,E6,F6) -> 4 | D6: 3 | E6: 0 | F6: 1 | G6: =SUM(B6,E6,F6) -> 1 | H6: =K6/J6% -> 75 | I6: =L6/J6% -> 25 | J6: 4 | K6: 3 | L6: 1 | M6: 2 | N6: ARTS | O6: ESMETA RAI | P6: CLS CHUJACHEN SSS | Q6: 0.798 | R6: LOCAL
A7: BIO | B7: 0 | C7: =SUM(B7,D7,E7,F7) -> 22 | D7: 18 | E7: 0 | F7: 4 | G7: =SUM(B7,E7,F7) -> 4 | H7: =K7/J7% -> 81.818182 | I7: =L7/J7% -> 18.181818 | J7: 22 | K7: 18 | L7: 4 | M7: 3 | N7: ARTS | O7: LALRINNGHETI | P7: CLS CHUJACHEN SSS | Q7: 0.796 | R7: NON LOCAL
A8: CHEM | B8: 3 | C8: =SUM(B8,D8,E8,F8) -> 26 | D8: 8 | E8: 11 | F8: 4 | G8: =SUM(B8,E8,F8) -> 18 | H8: =K8/J8% -> 30.769231 | I8: =L8/J8% -> 69.230769 | J8: 26 | K8: 8 | L8: 18
A9: PHY | B9: 8 | C9: =SUM(B9,D9,E9,F9) -> 26 | D9: 7 | E9: 7 | F9: 4 | G9: =SUM(B9,E9,F9) -> 19 | H9: =K9/J9% -> 26.923077 | I9: =L9/J9% -> 73.076923 | J9: 26 | K9: 7 | L9: 19 | M9: 1 | N9: SCIENCE | O9: RIGZIN DOLMA BHUTIA | P9: CLS CHUJACHEN SSS | Q9: 0.844 | R9: LOCAL
M10: 2 | N10: SCIENCE | O10: PASSANG LAMU SHERPA | P10: CLS CHUJACHEN SSS | Q10: 81.8 | R10: LOCAL
A11: ARTS | C11: 36 | D11: 36 | E11: 0 | F11: 0 | H11: =K11/J11% -> 100 | I11: =L11/J11% -> 0 | J11: 36 | K11: 36 | M11: 3 | N11: SCIENCE | O11: TRIPTI BISWAKARMA | P11: CLS CHUJACHEN SSS | Q11: 0.76 | R11: NON LOCAL
A12: ECO | B12: 0 | C12: =SUM(B12,D12,E12,F12) -> 19 | D12: 17 | E12: 1 | F12: 1 | G12: =SUM(B12,E12,F12) -> 2 | H12: =K12/J12% -> 89.473684 | I12: =L12/J12% -> 10.526316 | J12: 19 | K12: 17 | L12: 2
A13: HIST | B13: 2 | C13: =SUM(B13,D13,E13,F13) -> 30 | D13: 28 | E13: 0 | F13: 0 | G13: =SUM(B13,E13,F13) -> 2 | H13: =K13/J13% -> 93.333333 | I13: =L13/J13% -> 6.6666667 | J13: 30 | K13: 28 | L13: 2 | M13: 1 | N13: COMMERCE | O13: ASMITA TAMANG | P13: CLS CHUJACHEN SSS | Q13: 0.86 | R13: NON LOCAL
A14: SOCIO | B14: 0 | C14: =SUM(B14,D14,E14,F14) -> 35 | D14: 35 | E14: 0 | F14: 0 | G14: =SUM(B14,E14,F14) -> 0 | H14: =K14/J14% -> 100 | I14: =L14/J14% -> 0 | J14: 35 | K14: 35 | L14: 0 | M14: 2 | N14: COMMERCE | O14: PALAK KUMARI MISHRA | P14: CLS CHUJACHEN SSS | Q14: 0.786 | R14: NON LOCAL
A15: POL SCI | B15: 1 | C15: =SUM(B15,D15,E15,F15) -> 36 | D15: 35 | E15: 0 | F15: 0 | G15: =SUM(B15,E15,F15) -> 1 | H15: =K15/J15% -> 97.222222 | I15: =L15/J15% -> 2.7777778 | J15: 36 | K15: 35 | L15: 1 | M15: 3 | N15: COMMERCE | O15: ARITI BARAILY | P15: CLS CHUJACHEN SSS | Q15: 0.702 | R15: LOCAL
A16: GEOG | B16: 0 | C16: =SUM(B16,D16,E16,F16) -> 53 | D16: 53 | E16: 0 | F16: 0 | G16: =SUM(B16,E16,F16) -> 0 | H16: =K16/J16% -> 100 | I16: =L16/J16% -> 0 | J16: 53 | K16: 53 | L16: 0
M17: 1 | N17: VOCATIONAL | O17: ADRINA SEWA | P17: CLS CHUJACHEN SSS | Q17: 0.854 | R17: LOCAL
A18: COMMERCE | C18: 13 | D18: 11 | E18: 1 | F18: 1 | H18: =K18/J18% -> 84.615385 | I18: =L18/J18% -> 0 | J18: 13 | K18: 11 | M18: 2 | N18: VOCATIONAL | O18: DAWA SHERPA | P18: CLS CHUJACHEN SSS | Q18: 0.778 | R18: LOCAL
A19: B.STD | B19: 0 | C19: =SUM(B19,D19,E19,F19) -> 13 | D19: 12 | E19: 0 | F19: 1 | G19: =SUM(B19,E19,F19) -> 1 | H19: =K19/J19% -> 92.307692 | I19: =L19/J19% -> 7.6923077 | J19: 13 | K19: 12 | L19: 1 | M19: 3 | N19: VOCATIONAL | O19: SURAJ CHETTRI | P19: CLS CHUJACHEN SSS | Q19: 0.72 | R19: LOCAL
A20: ACC | B20: 6 | C20: =SUM(B20,D20,E20,F20) -> 13 | D20: 5 | E20: 1 | F20: 1 | G20: =SUM(B20,E20,F20) -> 8 | H20: =K20/J20% -> 38.461538 | I20: =L20/J20% -> 61.538462 | J20: 13 | K20: 5 | L20: 8
A22: VOC | C22: 17 | D22: 17 | E22: 0 | F22: 0 | H22: =K22/J22% -> 100 | I22: =L22/J22% -> 0 | J22: 17 | K22: 17
A23: WEB APP | B23: 0 | C23: 17 | D23: 17 | E23: 0 | F23: 0 | G23: =SUM(B23,E23,F23) -> 0 | H23: =K23/J23% -> 100 | I23: =L23/J23% -> 0 | J23: 17 | K23: 17 | L23: 0
A24: IT | B24: 0 | C24: =SUM(B24,D24,E24,F24) -> 17 | D24: 17 | E24: 0 | F24: 0 | G24: =SUM(B24,E24,F24) -> 0 | H24: =K24/J24% -> 100 | I24: =L24/J24% -> 0 | J24: 17 | K24: 17 | L24: 0
A26: TTM | B26: 0 | C26: =SUM(B26,D26,E26,F26) -> 14 | D26: 14 | E26: 0 | F26: 0 | G26: =SUM(B26,E26,F26) -> 0 | H26: =K26/J26% -> 100 | I26: =L26/J26% -> 0 | J26: 14 | K26: 14 | L26: 0
A27: FOO | B27: 0 | C27: =SUM(B27,D27,E27,F27) -> 17 | D27: 17 | E27: 0 | F27: 0 | G27: =SUM(B27,E27,F27) -> 0 | H27: =K27/J27% -> 100 | I27: =L27/J27% -> 0 | J27: 17 | K27: 17 | L27: 0
A29: LANGUAGE | C29: 106 | D29: 106 | E29: 0 | F29: 0 | H29: =K29/J29% -> 100 | I29: =L29/J29% -> 0 | J29: 106 | K29: 106
A30: LEPCHA | B30: 0 | C30: =SUM(B30,D30,E30,F30) -> 2 | D30: 2 | E30: 0 | F30: 0 | G30: =SUM(B30,E30,F30) -> 0 | H30: =K30/J30% -> 100 | I30: =L30/J30% -> 0 | J30: 2 | K30: 2 | L30: 0
A31: BHUTIA | B31: 0 | C31: =SUM(B31,D31,E31,F31) -> 2 | D31: 2 | E31: 0 | F31: 0 | G31: =SUM(B31,E31,F31) -> 0 | H31: =K31/J31% -> 100 | I31: =L31/J31% -> 0 | J31: 2 | K31: 2 | L31: 0
A32: HINDI | B32: 1 | C32: =SUM(B32,D32,E32,F32) -> 16 | D32: 15 | E32: 0 | F32: 0 | G32: =SUM(B32,E32,F32) -> 1 | H32: =K32/J32% -> 93.75 | I32: =L32/J32% -> 6.25 | J32: 16 | K32: 15 | L32: 1
A33: NEPALI | B33: 0 | C33: =SUM(B33,D33,E33,F33) -> 85 | D33: 85 | E33: 0 | F33: 0 | G33: =SUM(B33,E33,F33) -> 0 | H33: =K33/J33% -> 100 | I33: =L33/J33% -> 0 | J33: 85 | K33: 85 | L33: 0
A34: ENGLISH | B34: 0 | C34: =SUM(B34,D34,E34,F34) -> 106 | D34: 106 | E34: 0 | F34: 0 | G34: =SUM(B34,E34,F34) -> 0 | H34: =K34/J34% -> 100 | I34: =L34/J34% -> 0 | J34: 106 | K34: 106 | L34: 0
A36: PE | B36: 0 | C36: =SUM(B36,D36,E36,F36) -> 71 | D36: 71 | E36: 0 | F36: 0 | G36: =SUM(B36,E36,F36) -> 0 | H36: =K36/J36% -> 100 | I36: =L36/J36% -> 0 | J36: 71 | K36: 71 | L36: 0

Sheet SUBJECT CODE
A1: S.NO | B1: CODE | C1: SUBJECT
A2: 1 | B2: 27 | C2: History
A3: 2 | B3: 28 | C3: Political Science
A4: 3 | B4: 29 | C4: Geography
A5: 4 | B5: 30 | C5: Economics
A6: 5 | B6: 39 | C6: Sociology
A7: 6 | B7: 301 | C7: English Core
A8: 7 | B8: 48 | C8: Physical Education
A9: 8 | B9: 42 | C9: Physics
A10: 9 | B10: 43 | C10: Chemistry
A11: 10 | B11: 44 | C11: Biology
A12: 11 | B12: 41 | C12: Mathematics
A13: 12 | B13: 55 | C13: Accountancy
... A25: 24 | B25: 195 | C25: BHUTIA
A26: 25
A27: 26
A28: 27
A29: 28
A30: 29
