Workbook

Sheet 37211
A2: _x000c_
A6: --------- | B6: --- | C6: -------------------------- | D6: ----------------------------------------------- | E6: ------- | F6: ----- | G6: --- | H6: ----- | I6: --- | J6: ---- | K6: ---- | L6: --- | M6: ---- | N6: ---------------------------
A7: ROLL F | B7: S | C7: NAME OF CANDIDATE | D7: {=--------------------S} -> #NAME? | E7: UBJECTS | F7: ----- | G7: --- | H7: ----- | I7: --- | J7: -- | K7: INT- | L7: SB- | M7: GRD | N7: RES COMP
A8: NO L | B8: X | D8: SUB CD SUB CD SUB C | E8: D SUB | F8: CD S | G8: UB | H8: CD S | I8: UB | J8: CD | K8: GR1 | L8: GR2 | M8: GR3 | N8: SUB
D9: MKS GR MKS GR MKS G | E9: R MKS | F9: GR M | G9: KS | H9: GR M | I9: KS | J9: GR
A10: --------- | B10: --- | C10: -------------------------- | D10: ----------------------------------------------- | E10: ------- | F10: ----- | G10: --- | H10: ----- | I10: --- | J10: ---- | K10: ---- | L10: --- | M10: ---- | N10: ---------------------------
A12: SCHOOL : | B12: -3 | C12: 7211 PM SHRI CHANDRALAL | D12: SHARMA GOVT SR SEC SCH CHUJACHEN EAST SM
A14: 16644486 | B14: M | C14: AMARSAN RAI | D14: 301 124 048 | E14: 42 | G14: 044 | I14: 043 | K14: B1 | L14: B1 | M14: B1 | N14: COMP 042 043
D15: 075 C1 071 B2 074 | E15: C1 033 | F15: E | G15: 048 | H15: D2 | I15: 032 | J15: E
A16: 16644487 | B16: F | C16: AMBIKA SHARMA | D16: 301 124 043 | E16: 48 | G16: 044 | I16: 042 | K16: B1 | L16: B1 | M16: B1 | N16: COMP 043 042
D17: 079 B2 076 B1 040 | E17: E 078 | F17: C1 | G17: 050 | H17: D2 | I17: 035 | J17: E
A18: 16644488 | B18: M | C18: AMRIT MANGER | D18: 301 124 043 | E18: 42 | G18: 044 | I18: 048 | K18: B1 | L18: B1 | M18: B1 | N18: PASS
D19: 077 C1 073 B1 048 | E19: D2 049 | F19: D2 | G19: 064 | H19: C2 | I19: 079 | J19: B2
A20: 16644489 | B20: F | C20: ANUSHKA RAI | D20: 301 124 043 | E20: 42 | G20: 044 | I20: 048 | K20: B1 | L20: B1 | M20: B1 | N20: ESSENTIAL REPEAT
D21: 081 B2 081 A2 031 | E21: E 032 | F21: E | G21: 036 | H21: E | I21: 058 | J21: D2
A22: 16644490 | B22: F | C22: DEEPIKA GURUNG | D22: 301 124 043 | E22: 42 | G22: 044 | I22: 048 | K22: B1 | L22: B1 | M22: B1 | N22: ESSENTIAL REPEAT
D23: 069 C2 078 A2 036 | E23: E 030 | F23: E | G23: 038 | H23: E | I23: 066 | J23: D1
A24: 16644491 | B24: F | C24: DIKCHIKA GURUNG | D24: 301 124 048 | E24: 42 | G24: 044 | I24: 043 | K24: B1 | L24: B1 | M24: B1 | N24: COMP 042 043
D25: 057 D1 078 A2 078 | E25: C1 037 | F25: E | G25: 048 | H25: D2 | I25: 037 | J25: E
A27: 16644492 | B27: F | C27: ESMEHA RAI | D27: 301 124 043 | E27: 48 | G27: 044 | I27: 042 | K27: B1 | L27: B1 | M27: B1 | N27: COMP 043 042
D28: 080 B2 061 C2 036 | E28: E 063 | F28: D1 | G28: 051 | H28: D2 | I28: 034 | J28: E
A29: 16644493 | B29: F | C29: JAYA RAI | D29: 301 124 043 | E29: 48 | G29: 044 | I29: 042 | K29: B1 | L29: B1 | M29: B1 | N29: COMP 043 042
D30: 075 C1 089 A1 039 | E30: E 072 | F30: C2 | G30: 070 | H30: C1 | I30: 034 | J30: E
A31: 16644494 | B31: M | C31: KARMA LODEY BHUTIA | D31: 301 124 043 | E31: 48 | G31: 041 | I31: 042 | K31: B1 | L31: B1 | M31: B1 | N31: PASS
D32: 069 C2 074 B1 049 | E32: D2 070 | F32: C2 | G32: 053 | H32: C2 | I32: 041 | J32: E
A33: 16644495 | B33: F | C33: KUNZONG LEPCHA | D33: 301 126 048 | E33: 42 | G33: 044 | I33: 043 | K33: B2 | L33: B2 | M33: B2 | N33: PASS
D34: 075 C1 084 B2 068 | E34: C2 055 | F34: C2 | G34: 069 | H34: C1 | I34: 041 | J34: E
A35: 16644496 | B35: M | C35: MENLOM LEPCHA | D35: 301 124 043 | E35: 48 | G35: 041 | I35: 042 | K35: B1 | L35: A2 | M35: A2 | N35: COMP 043 042
D36: 077 C1 067 C1 038 | E36: E 070 | F36: C2 | G36: 045 | H36: D2 | I36: 036 | J36: E
A37: 16644497 | B37: F | C37: MUSKAN KUMARI | D37: 301 302 043 | E37: 42 | G37: 041 | I37: 048 | K37: B2 | L37: B2 | M37: B2 | N37: PASS
D38: 079 B2 071 C2 051 | E38: D2 057 | F38: C1 | G38: 045 | H38: D2 | I38: 073 | J38: C2
A39: 16644498 | B39: F | C39: NAMRATA SHARMA | D39: 301 124 043 | E39: 42 | G39: 044 | I39: 048 | K39: B1 | L39: B2 | M39: B2 | N39: ESSENTIAL REPEAT
D40: 073 C2 072 B2 029 | E40: E 035 | F40: E | G40: 041 | H40: E | I40: 061 | J40: D1
A41: 16644499 | B41: F | C41: PASSANG LHAMU SHERPA | D41: 301 124 043 | E41: 48 | G41: 044 | I41: 042 | K41: A2 | L41: A1 | M41: A2 | N41: PASS
D42: 093 A1 093 A1 057 | E42: C2 083 | F42: B1 | G42: 083 | H42: B1 | I42: 043 | J42: E
A43: 16644500 | B43: F | C43: PEMA LAMU BHUTIA | D43: 301 195 048 | E43: 42 | G43: 044 | I43: 043 | K43: B1 | L43: B1 | M43: B1 | N43: PASS
D44: 078 C1 065 D1 072 | E44: C2 054 | F44: C2 | G44: 063 | H44: C2 | I44: 037 | J44: E
A45: 16644501 | B45: F | C45: PRACHE RAI | D45: 301 124 048 | E45: 42 | G45: 044 | I45: 043 | K45: B2 | L45: B2 | M45: B2 | N45: COMP 042 043
D46: 079 B2 073 B1 059 | E46: D2 037 | F46: E | G46: 048 | H46: D2 | I46: 034 | J46: E
A48: 16644502 | B48: F | C48: PRAJAKTA TAMANG | D48: 301 124 043 | E48: 42 | G48: 044 | I48: 048 | K48: B1 | L48: B1 | M48: B1 | N48: ESSENTIAL REPEAT
...

Sheet RESULT
R3: STREAM | S3: TOTAL | T3: BEST 5 | U3: % 5 SUB
A4: RESULT | B4: ROLL F | C4: S | D4: NAME OF CANDIDATE | E4: MKS | F4: GR | G4: MKS | H4: GR | I4: MKS | J4: GR | K4: MKS | L4: GR | M4: MKS | N4: GR | O4: MKS | P4: GR | Q4: MKS | S4: MKS | T4: TOTAL | U4: PERCENT IN 6 SUB | V4: RANK
A5: COMP 042 043 | B5: 16644486 | C5: M | D5: AMARSAN RAI | E5: 75 | F5: C1 | G5: 71 | H5: B2 | I5: 74 | K5: C1 | L5: 33 | M5: E | N5: 48 | O5: D2 | P5: 32 | Q5: E | R5: SCIENCE | S5: 333 | T5: 301 | U5: 60.2 | V5: 76
A6: COMP 043 042 | B6: 16644487 | C6: F | D6: AMBIKA SHARMA | E6: 79 | F6: B2 | G6: 76 | H6: B1 | I6: 40 | K6: E | L6: 78 | M6: C1 | N6: 50 | O6: D2 | P6: 35 | Q6: E | R6: SCIENCE | S6: 358 | T6: 323 | U6: 64.6 | V6: 56
A7: PASS | B7: 16644488 | C7: M | D7: AMRIT MANGER | E7: 77 | F7: C1 | G7: 73 | H7: B1 | I7: 48 | K7: D2 | L7: 49 | M7: D2 | N7: 64 | O7: C2 | P7: 79 | Q7: B2 | R7: SCIENCE | S7: 390 | T7: 342 | U7: 68.4 | V7: 40
A8: ESSENTIAL REPEAT | B8: 16644489 | C8: F | D8: ANUSHKA RAI | E8: 81 | F8: B2 | G8: 81 | H8: A2 | I8: 31 | K8: E | L8: 32 | M8: E | N8: 36 | O8: E | P8: 58 | Q8: D2 | R8: SCIENCE | S8: 319 | T8: 288 | U8: 57.6 | V8: 91
A9: ESSENTIAL REPEAT | B9: 16644490 | C9: F | D9: DEEPIKA GURUNG | E9: 69 | F9: C2 | G9: 78 | H9: A2 | I9: 36 | K9: E | L9: 30 | M9: E | N9: 38 | O9: E | P9: 66 | Q9: D1 | R9: SCIENCE | S9: 317 | T9: 287 | U9: 57.4 | V9: 92
A10: COMP 042 043 | B10: 16644491 | C10: F | D10: DIKCHIKA GURUNG | E10: 57 | F10: D1 | G10: 78 | H10: A2 | I10: 78 | K10: C1 | L10: 37 | M10: E | N10: 48 | O10: D2 | P10: 37 | Q10: E | R10: SCIENCE | S10: 335 | T10: 298 | U10: 59.6 | V10: 79
A11: COMP 043 042 | B11: 16644492 | C11: F | D11: ESMEHA RAI | E11: 80 | F11: B2 | G11: 61 | H11: C2 | I11: 36 | K11: E | L11: 63 | M11: D1 | N11: 51 | O11: D2 | P11: 34 | Q11: E | R11: SCIENCE | S11: 325 | T11: 291 | U11: 58.2 | V11: 88
A12: COMP 043 042 | B12: 16644493 | C12: F | D12: JAYA RAI | E12: 75 | F12: C1 | G12: 89 | H12: A1 | I12: 39 | K12: E | L12: 72 | M12: C2 | N12: 70 | O12: C1 | P12: 34 | Q12: E | R12: SCIENCE | S12: 379 | T12: 345 | U12: 69 | V12: 34
A13: PASS | B13: 16644494 | C13: M | D13: KARMA LODEY BHUTIA | E13: 69 | F13: C2 | G13: 74 | H13: B1 | I13: 49 | K13: D2 | L13: 70 | M13: C2 | N13: 53 | O13: C2 | P13: 41 | Q13: E | R13: SCIENCE | S13: 356 | T13: 315 | U13: 63 | V13: 65
A14: PASS | B14: 16644495 | C14: F | D14: KUNZONG LEPCHA | E14: 75 | F14: C1 | G14: 84 | H14: B2 | I14: 68 | K14: C2 | L14: 55 | M14: C2 | N14: 69 | O14: C1 | P14: 41 | Q14: E | R14: SCIENCE | S14: 392 | T14: 351 | U14: 70.2 | V14: 26
A15: COMP 043 042 | B15: 16644496 | C15: M | D15: MENLOM LEPCHA | E15: 77 | F15: C1 | G15: 67 | H15: C1 | I15: 38 | K15: E | L15: 70 | M15: C2 | N15: 45 | O15: D2 | P15: 36 | Q15: E | R15: SCIENCE | S15: 333 | T15: 297 | U15: 59.4 | V15: 81
A16: PASS | B16: 16644497 | C16: F | D16: MUSKAN KUMARI | E16: 79 | F16: B2 | G16: 71 | H16: C2 | I16: 51 | K16: D2 | L16: 57 | M16: C1 | N16: 45 | O16: D2 | P16: 73 | Q16: C2 | R16: SCIENCE | S16: 376 | T16: 331 | U16: 66.2 | V16: 47
... A110: PASS | B110: 16644591 | C110: M | D110: SAMIR RAI | E110: 66 | F110: D1 | G110: 57 | H110: D1 | I110: 44 | K110: D2 | L110: 49 | M110: D1 | N110: 59 | O110: D2 | P110: 24 | Q110: E | R110: COMMERCE | S110: 299 | T110: 275 | U110: 55 | V110: 100

Sheet ALL RESULT  ANALYSIS
E1: PMSHRI CLS GSSS CHUJACHEN CBSE CLASS XII RESULT 2026
D2: SUB | E2: CODE | F2: SUB | G2: CODE | H2: SUB | I2: CODE | J2: SUB | K2: CODE | L2: SUB | M2: CODE | N2: SUB | O2: CODE | P2: GR1 | Q2: GR2 | R2: GR3 | S2: SUB | T2: STREAM | U2: TOTAL | V2: BEST 5 | W2: % 5 SUB
A3: ROLL | B3: SEX | C3: NAME OF CANDIDATE | D3: MKS | E3: GRADE | F3: MKS | G3: GRADE | H3: MKS | I3: GRADE | J3: MKS | K3: GRADE | L3: MKS | M3: GRADE | N3: MKS | O3: GRADE | P3: GR1 | Q3: GR2 | R3: GR3 | S3: SUB | U3: MKS | V3: TOTAL | W3: PERCENT IN 6 SUB | X3: RANK
A4: 16644486 | B4: M | C4: AMARSAN RAI | D4: 301 | E4: =VLOOKUP(D4,'SUBJECT CODE'!$B$1:$C$30,2,0) -> English Core | F4: 124 | G4: =VLOOKUP(F4,'SUBJECT CODE'!$B$1:$C$30,2,0) -> NEPALI | H4: 48 | I4: =VLOOKUP(H4,'SUBJECT CODE'!$B$1:$C$30,2,0) -> Physical Education | J4: 42 | K4: =VLOOKUP(J4,'SUBJECT CODE'!$B$1:$C$30,2,0) -> Physics | L4: 44 | M4: =VLOOKUP(L4,'SUBJECT CODE'!$B$1:$C$30,2,0) -> Biology | N4: 43 | O4: =VLOOKUP(N4,'SUBJECT CODE'!$B$1:$C$30,2,0) -> Chemistry | P4: B1 | Q4: B1 | R4: B1 | S4: COMP 042 043 | T4: SCIENCE | U4: =COUNTBLANK(D4:O4) -> 0
D5: 75 | E5: C1 | F5: 71 | G5: B2 | H5: 74 | I5: C1 | J5: 33 | K5: E | L5: 48 | M5: D2 | N5: 32 | O5: E | T5: SCIENCE | U5: =SUM(D5,F5,H5,J5,L5,N5) -> 333 | V5: =U5-MIN(D5,F5,H5,J5,L5,N5) -> 301 | W5: =IFERROR(V5/500*100,"") -> 60.2 | X5: =IFERROR(RANK(W5,$W$5:$W$215),0) -> 76
A6: 16644487 | B6: F | C6: AMBIKA SHARMA | D6: 301 | E6: =VLOOKUP(D6,'SUBJECT CODE'!$B$1:$C$30,2,0) -> English Core | F6: 124 | G6: =VLOOKUP(F6,'SUBJECT CODE'!$B$1:$C$30,2,0) -> NEPALI | H6: 43 | I6: =VLOOKUP(H6,'SUBJECT CODE'!$B$1:$C$30,2,0) -> Chemistry | J6: 48 | K6: =VLOOKUP(J6,'SUBJECT CODE'!$B$1:$C$30,2,0) -> Physical Education | L6: 44 | M6: =VLOOKUP(L6,'SUBJECT CODE'!$B$1:$C$30,2,0) -> Biology | N6: 42 | O6: =VLOOKUP(N6,'SUBJECT CODE'!$B$1:$C$30,2,0) -> Physics | P6: B1 | Q6: B1 | R6: B1 | S6: COMP 043 042 | U6: =COUNTBLANK(D6:O6) -> 0 | V6: =IF(U6=1,SUM(N6,L6,K6,H6,F6,D6),"") | W6: =IFERROR(V6/600*100,"") | X6: =IFERROR(RANK(W6,$W$5:$W$215),0) -> 0
D7: 79 | E7: B2 | F7: 76 | G7: B1 | H7: 40 | I7: E | J7: 78 | K7: C1 | L7: 50 | M7: D2 | N7: 35 | O7: E | T7: SCIENCE | U7: =SUM(D7,F7,H7,J7,L7,N7) -> 358 | V7: =U7-MIN(D7,F7,H7,J7,L7,N7) -> 323 | W7: =IFERROR(V7/500*100,"") -> 64.6 | X7: =IFERROR(RANK(W7,$W$5:$W$215),0) -> 56
A8: 16644488 | B8: M | C8: AMRIT MANGER | D8: 301 | E8: =VLOOKUP(D8,'SUBJECT CODE'!$B$1:$C$30,2,0) -> English Core | F8: 124 | G8: =VLOOKUP(F8,'SUBJECT CODE'!$B$1:$C$30,2,0) -> NEPALI | H8: 43 | I8: =VLOOKUP(H8,'SUBJECT CODE'!$B$1:$C$30,2,0) -> Chemistry | J8: 42 | K8: =VLOOKUP(J8,'SUBJECT CODE'!$B$1:$C$30,2,0) -> Physics | L8: 44 | M8: =VLOOKUP(L8,'SUBJECT CODE'!$B$1:$C$30,2,0) -> Biology | N8: 48 | O8: =VLOOKUP(N8,'SUBJECT CODE'!$B$1:$C$30,2,0) -> Physical Education | P8: B1 | Q8: B1 | R8: B1 | S8: PASS | U8: =COUNTBLANK(D8:O8) -> 0 | V8: =IF(U8=1,SUM(N8,L8,K8,H8,F8,D8),"") | W8: =IFERROR(V8/600*100,"") | X8: =IFERROR(RANK(W8,$W$5:$W$215),0) -> 0
D9: 77 | E9: C1 | F9: 73 | G9: B1 | H9: 48 | I9: D2 | J9: 49 | K9: D2 | L9: 64 | M9: C2 | N9: 79 | O9: B2 | T9: SCIENCE | U9: =SUM(D9,F9,H9,J9,L9,N9) -> 390 | V9: =U9-MIN(D9,F9,H9,J9,L9,N9) -> 342 | W9: =IFERROR(V9/500*100,"") -> 68.4 | X9: =IFERROR(RANK(W9,$W$5:$W$215),0) -> 40
A10: 16644489 | B10: F | C10: ANUSHKA RAI | D10: 301 | E10: =VLOOKUP(D10,'SUBJECT CODE'!$B$1:$C$30,2,0) -> English Core | F10: 124 | G10: =VLOOKUP(F10,'SUBJECT CODE'!$B$1:$C$30,2,0) -> NEPALI | H10: 43 | I10: =VLOOKUP(H10,'SUBJECT CODE'!$B$1:$C$30,2,0) -> Chemistry | J10: 42 | K10: =VLOOKUP(J10,'SUBJECT CODE'!$B$1:$C$30,2,0) -> Physics | L10: 44 | M10: =VLOOKUP(L10,'SUBJECT CODE'!$B$1:$C$30,2,0) -> Biology | N10: 48 | O10: =VLOOKUP(N10,'SUBJECT CODE'!$B$1:$C$30,2,0) -> Physical Education | P10: B1 | Q10: B1 | R10: B1 | S10: ESSENTIAL REPEAT | U10: =COUNTBLANK(D10:O10) -> 0 | V10: =IF(U10=1,SUM(N10,L10,K10,H10,F10,D10),"") | W10: =IFERROR(V10/600*100,"") | X10: =IFERROR(RANK(W10,$W$5:$W$215),0) -> 0
D11: 81 | E11: B2 | F11: 81 | G11: A2 | H11: 31 | I11: E | J11: 32 | K11: E | L11: 36 | M11: E | N11: 58 | O11: D2 | T11: SCIENCE | U11: =SUM(D11,F11,H11,J11,L11,N11) -> 319 | V11: =U11-MIN(D11,F11,H11,J11,L11,N11) -> 288 | W11: =IFERROR(V11/500*100,"") -> 57.6 | X11: =IFERROR(RANK(W11,$W$5:$W$215),0) -> 91
A12: 16644490 | B12: F | C12: DEEPIKA GURUNG | D12: 301 | E12: =VLOOKUP(D12,'SUBJECT CODE'!$B$1:$C$30,2,0) -> English Core | F12: 124 | G12: =VLOOKUP(F12,'SUBJECT CODE'!$B$1:$C$30,2,0) -> NEPALI | H12: 43 | I12: =VLOOKUP(H12,'SUBJECT CODE'!$B$1:$C$30,2,0) -> Chemistry | J12: 42 | K12: =VLOOKUP(J12,'SUBJECT CODE'!$B$1:$C$30,2,0) -> Physics | L12: 44 | M12: =VLOOKUP(L12,'SUBJECT CODE'!$B$1:$C$30,2,0) -> Biology | N12: 48 | O12: =VLOOKUP(N12,'SUBJECT CODE'!$B$1:$C$30,2,0) -> Physical Education | P12: B1 | Q12: B1 | R12: B1 | S12: ESSENTIAL REPEAT | U12: =COUNTBLANK(D12:O12) -> 0 | V12: =IF(U12=1,SUM(N12,L12,K12,H12,F12,D12),"") | W12: =IFERROR(V12/600*100,"") | X12: =IFERROR(RANK(W12,$W$5:$W$215),0) -> 0
D13: 69 | E13: C2 | F13: 78 | G13: A2 | H13: 36 | I13: E | J13: 30 | K13: E | L13: 38 | M13: E | N13: 66 | O13: D1 | T13: SCIENCE | U13: =SUM(D13,F13,H13,J13,L13,N13) -> 317 | V13: =U13-MIN(D13,F13,H13,J13,L13,N13) -> 287 | W13: =IFERROR(V13/500*100,"") -> 57.4 | X13: =IFERROR(RANK(W13,$W$5:$W$215),0) -> 92
A14: 16644491 | B14: F | C14: DIKCHIKA GURUNG | D14: 301 | E14: =VLOOKUP(D14,'SUBJECT CODE'!$B$1:$C$30,2,0) -> English Core | F14: 124 | G14: =VLOOKUP(F14,'SUBJECT CODE'!$B$1:$C$30,2,0) -> NEPALI | H14: 48 | I14: =VLOOKUP(H14,'SUBJECT CODE'!$B$1:$C$30,2,0) -> Physical Education | J14: 42 | K14: =VLOOKUP(J14,'SUBJECT CODE'!$B$1:$C$30,2,0) -> Physics | L14: 44 | M14: =VLOOKUP(L14,'SUBJECT CODE'!$B$1:$C$30,2,0) -> Biology | N14: 43 | O14: =VLOOKUP(N14,'SUBJECT CODE'!$B$1:$C$30,2,0) -> Chemistry | P14: B1 | Q14: B1 | R14: B1 | S14: COMP 042 043 | U14: =COUNTBLANK(D14:O14) -> 0 | V14: =IF(U14=1,SUM(N14,L14,K14,H14,F14,D14),"") | W14: =IFERROR(V14/600*100,"") | X14: =IFERROR(RANK(W14,$W$5:$W$215),0) -> 0
D15: 57 | E15: D1 | F15: 78 | G15: A2 | H15: 78 | I15: C1 | J15: 37 | K15: E | L15: 48 | M15: D2 | N15: 37 | O15: E | T15: SCIENCE | U15: =SUM(D15,F15,H15,J15,L15,N15) -> 335 | V15: =U15-MIN(D15,F15,H15,J15,L15,N15) -> 298 | W15: =IFERROR(V15/500*100,"") -> 59.6 | X15: =IFERROR(RANK(W15,$W$5:$W$215),0) -> 79
A16: 16644492 | B16: F | C16: ESMEHA RAI | D16: 301 | E16: =VLOOKUP(D16,'SUBJECT CODE'!$B$1:$C$30,2,0) -> English Core | F16: 124 | G16: =VLOOKUP(F16,'SUBJECT CODE'!$B$1:$C$30,2,0) -> NEPALI | H16: 43 | I16: =VLOOKUP(H16,'SUBJECT CODE'!$B$1:$C$30,2,0) -> Chemistry | J16: 48 | K16: =VLOOKUP(J16,'SUBJECT CODE'!$B$1:$C$30,2,0) -> Physical Education | L16: 44 | M16: =VLOOKUP(L16,'SUBJECT CODE'!$B$1:$C$30,2,0) -> Biology | N16: 42 | O16: =VLOOKUP(N16,'SUBJECT CODE'!$B$1:$C$30,2,0) -> Physics | P16: B1 | Q16: B1 | R16: B1 | S16: COMP 043 042 | U16: =COUNTBLANK(D16:O16) -> 0 | V16: =IF(U16=1,SUM(N16,L16,K16,H16,F16,D16),"") | W16: =IFERROR(V16/600*100,"") | X16: =IFERROR(RANK(W16,$W$5:$W$215),0) -> 0
D17: 80 | E17: B2 | F17: 61 | G17: C2 | H17: 36 | I17: E | J17: 63 | K17: D1 | L17: 51 | M17: D2 | N17: 34 | O17: E | T17: SCIENCE | U17: =SUM(D17,F17,H17,J17,L17,N17) -> 325 | V17: =U17-MIN(D17,F17,H17,J17,L17,N17) -> 291 | W17: =IFERROR(V17/500*100,"") -> 58.2 | X17: =IFERROR(RANK(W17,$W$5:$W$215),0) -> 88
A18: 16644493 | B18: F | C18: JAYA RAI | D18: 301 | E18: =VLOOKUP(D18,'SUBJECT CODE'!$B$1:$C$30,2,0) -> English Core | F18: 124 | G18: =VLOOKUP(F18,'SUBJECT CODE'!$B$1:$C$30,2,0) -> NEPALI | H18: 43 | I18: =VLOOKUP(H18,'SUBJECT CODE'!$B$1:$C$30,2,0) -> Chemistry | J18: 48 | K18: =VLOOKUP(J18,'SUBJECT CODE'!$B$1:$C$30,2,0) -> Physical Education | L18: 44 | M18: =VLOOKUP(L18,'SUBJECT CODE'!$B$1:$C$30,2,0) -> Biology | N18: 42 | O18: =VLOOKUP(N18,'SUBJECT CODE'!$B$1:$C$30,2,0) -> Physics | P18: B1 | Q18: B1 | R18: B1 | S18: COMP 043 042 | U18: =COUNTBLANK(D18:O18) -> 0 | V18: =IF(U18=1,SUM(N18,L18,K18,H18,F18,D18),"") | W18: =IFERROR(V18/600*100,"") | X18: =IFERROR(RANK(W18,$W$5:$W$215),0) -> 0
D19: 75 | E19: C1 | F19: 89 | G19: A1 | H19: 39 | I19: E | J19: 72 | K19: C2 | L19: 70 | M19: C1 | N19: 34 | O19: E | T19: SCIENCE | U19: =SUM(D19,F19,H19,J19,L19,N19) -> 379 | V19: =U19-MIN(D19,F19,H19,J19,L19,N19) -> 345 | W19: =IFERROR(V19/500*100,"") -> 69 | X19: =IFERROR(RANK(W19,$W$5:$W$215),0) -> 34
A20: 16644494 | B20: M | C20: KARMA LODEY BHUTIA | D20: 301 | E20: =VLOOKUP(D20,'SUBJECT CODE'!$B$1:$C$30,2,0) -> English Core | F20: 124 | G20: =VLOOKUP(F20,'SUBJECT CODE'!$B$1:$C$30,2,0) -> NEPALI | H20: 43 | I20: =VLOOKUP(H20,'SUBJECT CODE'!$B$1:$C$30,2,0) -> Chemistry | J20: 48 | K20: =VLOOKUP(J20,'SUBJECT CODE'!$B$1:$C$30,2,0) -> Physical Education | L20: 41 | M20: =VLOOKUP(L20,'SUBJECT CODE'!$B$1:$C$30,2,0) -> Mathematics | N20: 42 | O20: =VLOOKUP(N20,'SUBJECT CODE'!$B$1:$C$30,2,0) -> Physics | P20: B1 | Q20: B1 | R20: B1 | S20: PASS | U20: =COUNTBLANK(D20:O20) -> 0 | V20: =IF(U20=1,SUM(N20,L20,K20,H20,F20,D20),"") | W20: =IFERROR(V20/600*100,"") | X20: =IFERROR(RANK(W20,$W$5:$W$215),0) -> 0
D21: 69 | E21: C2 | F21: 74 | G21: B1 | H21: 49 | I21: D2 | J21: 70 | K21: C2 | L21: 53 | M21: C2 | N21: 41 | O21: E | T21: SCIENCE | U21: =SUM(D21,F21,H21,J21,L21,N21) -> 356 | V21: =U21-MIN(D21,F21,H21,J21,L21,N21) -> 315 | W21: =IFERROR(V21/500*100,"") -> 63 | X21: =IFERROR(RANK(W21,$W$5:$W$215),0) -> 65
A22: 16644495 | B22: F | C22: KUNZONG LEPCHA | D22: 301 | E22: =VLOOKUP(D22,'SUBJECT CODE'!$B$1:$C$30,2,0) -> English Core | F22: 126 | G22: =VLOOKUP(F22,'SUBJECT CODE'!$B$1:$C$30,2,0) -> LEPCHA | H22: 48 | I22: =VLOOKUP(H22,'SUBJECT CODE'!$B$1:$C$30,2,0) -> Physical Education | J22: 42 | K22: =VLOOKUP(J22,'SUBJECT CODE'!$B$1:$C$30,2,0) -> Physics | L22: 44 | M22: =VLOOKUP(L22,'SUBJECT CODE'!$B$1:$C$30,2,0) -> Biology | N22: 43 | O22: =VLOOKUP(N22,'SUBJECT CODE'!$B$1:$C$30,2,0) -> Chemistry | P22: B2 | Q22: B2 | R22: B2 | S22: PASS | U22: =COUNTBLANK(D22:O22) -> 0 | V22: =IF(U22=1,SUM(N22,L22,K22,H22,F22,D22),"") | W22: =IFERROR(V22/600*100,"") | X22: =IFERROR(RANK(W22,$W$5:$W$215),0) -> 0
D23: 75 | E23: C1 | F23: 84 | G23: B2 | H23: 68 | I23: C2 | J23: 55 | K23: C2 | L23: 69 | M23: C1 | N23: 41 | O23: E | T23: SCIENCE | U23: =SUM(D23,F23,H23,J23,L23,N23) -> 392 | V23: =U23-MIN(D23,F23,H23,J23,L23,N23) -> 351 | W23: =IFERROR(V23/500*100,"") -> 70.2 | X23: =IFERROR(RANK(W23,$W$5:$W$215),0) -> 26
A24: 16644496 | B24: M | C24: MENLOM LEPCHA | D24: 301 | E24: =VLOOKUP(D24,'SUBJECT CODE'!$B$1:$C$30,2,0) -> English Core | F24: 124 | G24: =VLOOKUP(F24,'SUBJECT CODE'!$B$1:$C$30,2,0) -> NEPALI | H24: 43 | I24: =VLOOKUP(H24,'SUBJECT CODE'!$B$1:$C$30,2,0) -> Chemistry | J24: 48 | K24: =VLOOKUP(J24,'SUBJECT CODE'!$B$1:$C$30,2,0) -> Physical Education | L24: 41 | M24: =VLOOKUP(L24,'SUBJECT CODE'!$B$1:$C$30,2,0) -> Mathematics | N24: 42 | O24: =VLOOKUP(N24,'SUBJECT CODE'!$B$1:$C$30,2,0) -> Physics | P24: B1 | Q24: A2 | R24: A2 | S24: COMP 043 042 | U24: =COUNTBLANK(D24:O24) -> 0 | V24: =IF(U24=1,SUM(N24,L24,K24,H24,F24,D24),"") | W24: =IFERROR(V24/600*100,"") | X24: =IFERROR(RANK(W24,$W$5:$W$215),0) -> 0
D25: 77 | E25: C1 | F25: 67 | G25: C1 | H25: 38 | I25: E | J25: 70 | K25: C2 | L25: 45 | M25: D2 | N25: 36 | O25: E | T25: SCIENCE | U25: =SUM(D25,F25,H25,J25,L25,N25) -> 333 | V25: =U25-MIN(D25,F25,H25,J25,L25,N25) -> 297 | W25: =IFERROR(V25/500*100,"") -> 59.4 | X25: =IFERROR(RANK(W25,$W$5:$W$215),0) -> 81
A26: 16644497 | B26: F | C26: MUSKAN KUMARI | D26: 301 | E26: =VLOOKUP(D26,'SUBJECT CODE'!$B$1:$C$30,2,0) -> English Core | F26: 302 | G26: =VLOOKUP(F26,'SUBJECT CODE'!$B$1:$C$30,2,0) -> HINDI | H26: 43 | I26: =VLOOKUP(H26,'SUBJECT CODE'!$B$1:$C$30,2,0) -> Chemistry | J26: 42 | K26: =VLOOKUP(J26,'SUBJECT CODE'!$B$1:$C$30,2,0) -> Physics | L26: 41 | M26: =VLOOKUP(L26,'SUBJECT CODE'!$B$1:$C$30,2,0) -> Mathematics | N26: 48 | O26: =VLOOKUP(N26,'SUBJECT CODE'!$B$1:$C$30,2,0) -> Physical Education | P26: B2 | Q26: B2 | R26: B2 | S26: PASS | U26: =COUNTBLANK(D26:O26) -> 0 | V26: =IF(U26=1,SUM(N26,L26,K26,H26,F26,D26),"") | W26: =IFERROR(V26/600*100,"") | X26: =IFERROR(RANK(W26,$W$5:$W$215),0) -> 0
D27: 79 | E27: B2 | F27: 71 | G27: C2 | H27: 51 | I27: D2 | J27: 57 | K27: C1 | L27: 45 | M27: D2 | N27: 73 | O27: C2 | T27: SCIENCE | U27: =SUM(D27,F27,H27,J27,L27,N27) -> 376 | V27: =U27-MIN(D27,F27,H27,J27,L27,N27) -> 331 | W27: =IFERROR(V27/500*100,"") -> 66.2 | X27: =IFERROR(RANK(W27,$W$5:$W$215),0) -> 47
A28: 16644498 | B28: F | C28: NAMRATA SHARMA | D28: 301 | E28: =VLOOKUP(D28,'SUBJECT CODE'!$B$1:$C$30,2,0) -> English Core | F28: 124 | G28: =VLOOKUP(F28,'SUBJECT CODE'!$B$1:$C$30,2,0) -> NEPALI | H28: 43 | I28: =VLOOKUP(H28,'SUBJECT CODE'!$B$1:$C$30,2,0) -> Chemistry | J28: 42 | K28: =VLOOKUP(J28,'SUBJECT CODE'!$B$1:$C$30,2,0) -> Physics | L28: 44 | M28: =VLOOKUP(L28,'SUBJECT CODE'!$B$1:$C$30,2,0) -> Biology | N28: 48 | O28: =VLOOKUP(N28,'SUBJECT CODE'!$B$1:$C$30,2,0) -> Physical Education | P28: B1 | Q28: B2 | R28: B2 | S28: ESSENTIAL REPEAT | U28: =COUNTBLANK(D28:O28) -> 0 | V28: =IF(U28=1,SUM(N28,L28,K28,H28,F28,D28),"") | W28: =IFERROR(V28/600*100,"") | X28: =IFERROR(RANK(W28,$W$5:$W$215),0) -> 0
D29: 73 | E29: C2 | F29: 72 | G29: B2 | H29: 29 | I29: E | J29: 35 | K29: E | L29: 41 | M29: E | N29: 61 | O29: D1 | T29: SCIENCE | U29: =SUM(D29,F29,H29,J29,L29,N29) -> 311 | V29: =U29-MIN(D29,F29,H29,J29,L29,N29) -> 282 | W29: =IFERROR(V29/500*100,"") -> 56.4 | X29: =IFERROR(RANK(W29,$W$5:$W$215),0) -> 98
A30: 16644499 | B30: F | C30: PASSANG LHAMU SHERPA | D30: 301 | E30: =VLOOKUP(D30,'SUBJECT CODE'!$B$1:$C$30,2,0) -> English Core | F30: 124 | G30: =VLOOKUP(F30,'SUBJECT CODE'!$B$1:$C$30,2,0) -> NEPALI | H30: 43 | I30: =VLOOKUP(H30,'SUBJECT CODE'!$B$1:$C$30,2,0) -> Chemistry | J30: 48 | K30: =VLOOKUP(J30,'SUBJECT CODE'!$B$1:$C$30,2,0) -> Physical Education | L30: 44 | M30: =VLOOKUP(L30,'SUBJECT CODE'!$B$1:$C$30,2,0) -> Biology | N30: 42 | O30: =VLOOKUP(N30,'SUBJECT CODE'!$B$1:$C$30,2,0) -> Physics | P30: A2 | Q30: A1 | R30: A2 | S30: PASS | U30: =COUNTBLANK(D30:O30) -> 0 | V30: =IF(U30=1,SUM(N30,L30,K30,H30,F30,D30),"") | W30: =IFERROR(V30/600*100,"") | X30: =IFERROR(RANK(W30,$W$5:$W$215),0) -> 0
D31: 93 | E31: A1 | F31: 93 | G31: A1 | H31: 57 | I31: C2 | J31: 83 | K31: B1 | L31: 83 | M31: B1 | N31: 43 | O31: E | T31: SCIENCE | U31: =SUM(D31,F31,H31,J31,L31,N31) -> 452 | V31: =U31-MIN(D31,F31,H31,J31,L31,N31) -> 409 | W31: =IFERROR(V31/500*100,"") -> 81.8 | X31: =IFERROR(RANK(W31,$W$5:$W$215),0) -> 5
A32: 16644500 | B32: F | C32: PEMA LAMU BHUTIA | D32: 301 | E32: =VLOOKUP(D32,'SUBJECT CODE'!$B$1:$C$30,2,0) -> English Core | F32: 195 | G32: =VLOOKUP(F32,'SUBJECT CODE'!$B$1:$C$30,2,0) -> BHUTIA | H32: 48 | I32: =VLOOKUP(H32,'SUBJECT CODE'!$B$1:$C$30,2,0) -> Physical Education | J32: 42 | K32: =VLOOKUP(J32,'SUBJECT CODE'!$B$1:$C$30,2,0) -> Physics | L32: 44 | M32: =VLOOKUP(L32,'SUBJECT CODE'!$B$1:$C$30,2,0) -> Biology | N32: 43 | O32: =VLOOKUP(N32,'SUBJECT CODE'!$B$1:$C$30,2,0) -> Chemistry | P32: B1 | Q32: B1 | R32: B1 | S32: PASS | U32: =COUNTBLANK(D32:O32) -> 0 | V32: =IF(U32=1,SUM(N32,L32,K32,H32,F32,D32),"") | W32: =IFERROR(V32/600*100,"") | X32: =IFERROR(RANK(W32,$W$5:$W$215),0) -> 0
D33: 78 | E33: C1 | F33: 65 | G33: D1 | H33: 72 | I33: C2 | J33: 54 | K33: C2 | L33: 63 | M33: C2 | N33: 37 | O33: E | T33: SCIENCE | U33: =SUM(D33,F33,H33,J33,L33,N33) -> 369 | V33: =U33-MIN(D33,F33,H33,J33,L33,N33) -> 332 | W33: =IFERROR(V33/500*100,"") -> 66.4 | X33: =IFERROR(RANK(W33,$W$5:$W$215),0) -> 46
A34: 16644501 | B34: F | C34: PRACHE RAI | D34: 301 | E34: =VLOOKUP(D34,'SUBJECT CODE'!$B$1:$C$30,2,0) -> English Core | F34: 124 | G34: =VLOOKUP(F34,'SUBJECT CODE'!$B$1:$C$30,2,0) -> NEPALI | H34: 48 | I34: =VLOOKUP(H34,'SUBJECT CODE'!$B$1:$C$30,2,0) -> Physical Education | J34: 42 | K34: =VLOOKUP(J34,'SUBJECT CODE'!$B$1:$C$30,2,0) -> Physics | L34: 44 | M34: =VLOOKUP(L34,'SUBJECT CODE'!$B$1:$C$30,2,0) -> Biology | N34: 43 | O34: =VLOOKUP(N34,'SUBJECT CODE'!$B$1:$C$30,2,0) -> Chemistry | P34: B2 | Q34: B2 | R34: B2 | S34: COMP 042 043 | U34: =COUNTBLANK(D34:O34) -> 0 | V34: =IF(U34=1,SUM(N34,L34,K34,H34,F34,D34),"") | W34: =IFERROR(V34/600*100,"") | X34: =IFERROR(RANK(W34,$W$5:$W$215),0) -> 0
D35: 79 | E35: B2 | F35: 73 | G35: B1 | H35: 59 | I35: D2 | J35: 37 | K35: E | L35: 48 | M35: D2 | N35: 34 | O35: E | T35: SCIENCE | U35: =SUM(D35,F35,H35,J35,L35,N35) -> 330 | V35: =U35-MIN(D35,F35,H35,J35,L35,N35) -> 296 | W35: =IFERROR(V35/500*100,"") -> 59.2 | X35: =IFERROR(RANK(W35,$W$5:$W$215),0) -> 82
A36: 16644502 | B36: F | C36: PRAJAKTA TAMANG | D36: 301 | E36: =VLOOKUP(D36,'SUBJECT CODE'!$B$1:$C$30,2,0) -> English Core | F36: 124 | G36: =VLOOKUP(F36,'SUBJECT CODE'!$B$1:$C$30,2,0) -> NEPALI | H36: 43 | I36: =VLOOKUP(H36,'SUBJECT CODE'!$B$1:$C$30,2,0) -> Chemistry | J36: 42 | K36: =VLOOKUP(J36,'SUBJECT CODE'!$B$1:$C$30,2,0) -> Physics | L36: 44 | M36: =VLOOKUP(L36,'SUBJECT CODE'!$B$1:$C$30,2,0) -> Biology | N36: 48 | O36: =VLOOKUP(N36,'SUBJECT CODE'!$B$1:$C$30,2,0) -> Physical Education | P36: B1 | Q36: B1 | R36: B1 | S36: ESSENTIAL REPEAT | U36: =COUNTBLANK(D36:O36) -> 0 | V36: =IF(U36=1,SUM(N36,L36,K36,H36,F36,D36),"") | W36: =IFERROR(V36/600*100,"") | X36: =IFERROR(RANK(W36,$W$5:$W$215),0) -> 0
D37: 83 | E37: B2 | F37: 67 | G37: C1 | H37: 32 | I37: E | J37: 36 | K37: E | L37: 43 | M37: E | N37: 56 | O37: D2 | T37: SCIENCE | U37: =SUM(D37,F37,H37,J37,L37,N37) -> 317 | V37: =U37-MIN(D37,F37,H37,J37,L37,N37) -> 285 | W37: =IFERROR(V37/500*100,"") -> 57 | X37: =IFERROR(RANK(W37,$W$5:$W$215),0) -> 93
A38: 16644503 | B38: M | C38: PRAZAL GURUNG | D38: 301 | E38: =VLOOKUP(D38,'SUBJECT CODE'!$B$1:$C$30,2,0) -> English Core | F38: 302 | G38: =VLOOKUP(F38,'SUBJECT CODE'!$B$1:$C$30,2,0) -> HINDI | H38: 43 | I38: =VLOOKUP(H38,'SUBJECT CODE'!$B$1:$C$30,2,0) -> Chemistry | J38: 42 | K38: =VLOOKUP(J38,'SUBJECT CODE'!$B$1:$C$30,2,0) -> Physics | L38: 44 | M38: =VLOOKUP(L38,'SUBJECT CODE'!$B$1:$C$30,2,0) -> Biology | N38: 48 | O38: =VLOOKUP(N38,'SUBJECT CODE'!$B$1:$C$30,2,0) -> Physical Education | P38: A2 | Q38: A2 | R38: B1 | S38: PASS | U38: =COUNTBLANK(D38:O38) -> 0 | V38: =IF(U38=1,SUM(N38,L38,K38,H38,F38,D38),"") | W38: =IFERROR(V38/600*100,"") | X38: =IFERROR(RANK(W38,$W$5:$W$215),0) -> 0
D39: 88 | E39: A2 | F39: 67 | G39: D1 | H39: 51 | I39: D2 | J39: 56 | K39: C1 | L39: 60 | M39: C2 | N39: 75 | O39: C1 | T39: SCIENCE | U39: =SUM(D39,F39,H39,J39,L39,N39) -> 397 | V39: =U39-MIN(D39,F39,H39,J39,L39,N39) -> 346 | W39: =IFERROR(V39/500*100,"") -> 69.2 | X39: =IFERROR(RANK(W39,$W$5:$W$215),0) -> 32
A40: 16644504 | B40: F | C40: RIGZIN DOLMA BHUTIA | D40: 301 | E40: =VLOOKUP(D40,'SUBJECT CODE'!$B$1:$C$30,2,0) -> English Core | F40: 124 | G40: =VLOOKUP(F40,'SUBJECT CODE'!$B$1:$C$30,2,0) -> NEPALI | H40: 43 | I40: =VLOOKUP(H40,'SUBJECT CODE'!$B$1:$C$30,2,0) -> Chemistry | J40: 42 | K40: =VLOOKUP(J40,'SUBJECT CODE'!$B$1:$C$30,2,0) -> Physics | L40: 44 | M40: =VLOOKUP(L40,'SUBJECT CODE'!$B$1:$C$30,2,0) -> Biology | N40: 48 | O40: =VLOOKUP(N40,'SUBJECT CODE'!$B$1:$C$30,2,0) -> Physical Education | P40: A1 | Q40: A2 | R40: A1 | S40: PASS | U40: =COUNTBLANK(D40:O40) -> 0 | V40: =IF(U40=1,SUM(N40,L40,K40,H40,F40,D40),"") | W40: =IFERROR(V40/600*100,"") | X40: =IFERROR(RANK(W40,$W$5:$W$215),0) -> 0
...

Sheet SUBJECTWISE ANALYSIS
B1: PMSHRI CLS GSSS CHUJACHEN CBSE RESULT XII 2026
B2: SUBJECTWISE ANALYSIS
A3: TOTAL CANDIDATES | B3: PASS BUT SUB FAIL | C3: TOTAL STUDENTS | D3: PASS | E3: COMPT | F3: ESSENTIAL REPEAT | G3: SUBJECT FAIL TOTAL | H3: PASS % | I3: FAIL % | J3: TOTAL STUDENTS | K3: PASS | L3: SUBJECT FAIL TOTAL | M3: SCHOOL TOPPER LIST
A4: OVERALL | B4: 0 | C4: =SUM(B4,D4,E4,F4) -> 106 | D4: 89 | E4: 11 | F4: 6 | H4: =K4/J4% -> 83.962264 | I4: =L4/J4% -> 0 | J4: 106 | K4: 89 | M4: SL NO | N4: STREAM | O4: NAME OF STUDENT | P4: SCHOOL NAME | Q4: PERCENTAGE BEST OF 5 ( EXCLUDING ADDITIONAL SUBJECT) | R4: LOCAL/ NON LOCAL
A5: SCI | C5: =SUM(B5,D5,E5,F5) -> 26 | D5: 11 | E5: 10 | F5: 5 | G5: =SUM(B5,E5,F5) -> 15 | H5: =K5/J5% -> 42.307692 | I5: =L5/J5% -> 57.692308 | J5: 26 | K5: 11 | L5: 15 | M5: 1 | N5: ARTS | O5: ROSHNA SUNAM | P5: CLS CHUJACHEN SSS | Q5: 0.832 | R5: NON LOCAL
A6: MATH | B6: 0 | C6: =SUM(B6,D6,E6,F6) -> 4 | D6: 3 | E6: 0 | F6: 1 | G6: =SUM(B6,E6,F6) -> 1 | H6: =K6/J6% -> 75 | I6: =L6/J6% -> 25 | J6: 4 | K6: 3 | L6: 1 | M6: 2 | N6: ARTS | O6: ESMETA RAI | P6: CLS CHUJACHEN SSS | Q6: 0.798 | R6: LOCAL
A7: BIO | B7: 0 | C7: =SUM(B7,D7,E7,F7) -> 22 | D7: 18 | E7: 0 | F7: 4 | G7: =SUM(B7,E7,F7) -> 4 | H7: =K7/J7% -> 81.818182 | I7: =L7/J7% -> 18.181818 | J7: 22 | K7: 18 | L7: 4 | M7: 3 | N7: ARTS | O7: LALRINNGHETI | P7: CLS CHUJACHEN SSS | Q7: 0.796 | R7: NON LOCAL
A8: CHEM | B8: 3 | C8: =SUM(B8,D8,E8,F8) -> 26 | D8: 8 | E8: 11 | F8: 4 | G8: =SUM(B8,E8,F8) -> 18 | H8: =K8/J8% -> 30.769231 | I8: =L8/J8% -> 69.230769 | J8: 26 | K8: 8 | L8: 18
A9: PHY | B9: 8 | C9: =SUM(B9,D9,E9,F9) -> 26 | D9: 7 | E9: 7 | F9: 4 | G9: =SUM(B9,E9,F9) -> 19 | H9: =K9/J9% -> 26.923077 | I9: =L9/J9% -> 73.076923 | J9: 26 | K9: 7 | L9: 19 | M9: 1 | N9: SCIENCE | O9: RIGZIN DOLMA BHUTIA | P9: CLS CHUJACHEN SSS | Q9: 0.844 | R9: LOCAL
M10: 2 | N10: SCIENCE | O10: PASSANG LAMU SHERPA | P10: CLS CHUJACHEN SSS | Q10: 81.8 | R10: LOCAL
A11: ARTS | C11: 36 | D11: 36 | E11: 0 | F11: 0 | H11: =K11/J11% -> 100 | I11: =L11/J11% -> 0 | J11: 36 | K11: 36 | M11: 3 | N11: SCIENCE | O11: TRIPTI BISWAKARMA | P11: CLS CHUJACHEN SSS | Q11: 0.76 | R11: NON LOCAL
A12: ECO | B12: 0 | C12: =SUM(B12,D12,E12,F12) -> 19 | D12: 17 | E12: 1 | F12: 1 | G12: =SUM(B12,E12,F12) -> 2 | H12: =K12/J12% -> 89.473684 | I12: =L12/J12% -> 10.526316 | J12: 19 | K12: 17 | L12: 2
A13: HIST | B13: 2 | C13: =SUM(B13,D13,E13,F13) -> 30 | D13: 28 | E13: 0 | F13: 0 | G13: =SUM(B13,E13,F13) -> 2 | H13: =K13/J13% -> 93.333333 | I13: =L13/J13% -> 6.6666667 | J13: 30 | K13: 28 | L13: 2 | M13: 1 | N13: COMMERCE | O13: ASMITA TAMANG | P13: CLS CHUJACHEN SSS | Q13: 0.86 | R13: NON LOCAL
A14: SOCIO | B14: 0 | C14: =SUM(B14,D14,E14,F14) -> 35 | D14: 35 | E14: 0 | F14: 0 | G14: =SUM(B14,E14,F14) -> 0 | H14: =K14/J14% -> 100 | I14: =L14/J14% -> 0 | J14: 35 | K14: 35 | L14: 0 | M14: 2 | N14: COMMERCE | O14: PALAK KUMARI MISHRA | P14: CLS CHUJACHEN SSS | Q14: 0.786 | R14: NON LOCAL
A15: POL SCI | B15: 1 | C15: =SUM(B15,D15,E15,F15) -> 36 | D15: 35 | E15: 0 | F15: 0 | G15: =SUM(B15,E15,F15) -> 1 | H15: =K15/J15% -> 97.222222 | I15: =L15/J15% -> 2.7777778 | J15: 36 | K15: 35 | L15: 1 | M15: 3 | N15: COMMERCE | O15: ARITI BARAILY | P15: CLS CHUJACHEN SSS | Q15: 0.702 | R15: LOCAL
A16: GEOG | B16: 0 | C16: =SUM(B16,D16,E16,F16) -> 53 | D16: 53 | E16: 0 | F16: 0 | G16: =SUM(B16,E16,F16) -> 0 | H16: =K16/J16% -> 100 | I16: =L16/J16% -> 0 | J16: 53 | K16: 53 | L16: 0
M17: 1 | N17: VOCATIONAL | O17: ADRINA SEWA | P17: CLS CHUJACHEN SSS | Q17: 0.854 | R17: LOCAL
A18: COMMERCE | C18: 13 | D18: 11 | E18: 1 | F18: 1 | H18: =K18/J18% -> 84.615385 | I18: =L18/J18% -> 0 | J18: 13 | K18: 11 | M18: 2 | N18: VOCATIONAL | O18: DAWA SHERPA | P18: CLS CHUJACHEN SSS | Q18: 0.778 | R18: LOCAL
A19: B.STD | B19: 0 | C19: =SUM(B19,D19,E19,F19) -> 13 | D19: 12 | E19: 0 | F19: 1 | G19: =SUM(B19,E19,F19) -> 1 | H19: =K19/J19% -> 92.307692 | I19: =L19/J19% -> 7.6923077 | J19: 13 | K19: 12 | L19: 1 | M19: 3 | N19: VOCATIONAL | O19: SURAJ CHETTRI | P19: CLS CHUJACHEN SSS | Q19: 0.72 | R19: LOCAL
A20: ACC | B20: 6 | C20: =SUM(B20,D20,E20,F20) -> 13 | D20: 5 | E20: 1 | F20: 1 | G20: =SUM(B20,E20,F20) -> 8 | H20: =K20/J20% -> 38.461538 | I20: =L20/J20% -> 61.538462 | J20: 13 | K20: 5 | L20: 8
A22: VOC | C22: 17 | D22: 17 | E22: 0 | F22: 0 | H22: =K22/J22% -> 100 | I22: =L22/J22% -> 0 | J22: 17 | K22: 17
A23: WEB APP | B23: 0 | C23: 17 | D23: 17 | E23: 0 | F23: 0 | G23: =SUM(B23,E23,F23) -> 0 | H23: =K23/J23% -> 100 | I23: =L23/J23% -> 0 | J23: 17 | K23: 17 | L23: 0
A24: IT | B24: 0 | C24: =SUM(B24,D24,E24,F24) -> 17 | D24: 17 | E24: 0 | F24: 0 | G24: =SUM(B24,E24,F24) -> 0 | H24: =K24/J24% -> 100 | I24: =L24/J24% -> 0 | J24: 17 | K24: 17 | L24: 0
A26: TTM | B26: 0 | C26: =SUM(B26,D26,E26,F26) -> 14 | D26: 14 | E26: 0 | F26: 0 | G26: =SUM(B26,E26,F26) -> 0 | H26: =K26/J26% -> 100 | I26: =L26/J26% -> 0 | J26: 14 | K26: 14 | L26: 0
A27: FOO | B27: 0 | C27: =SUM(B27,D27,E27,F27) -> 17 | D27: 17 | E27: 0 | F27: 0 | G27: =SUM(B27,E27,F27) -> 0 | H27: =K27/J27% -> 100 | I27: =L27/J27% -> 0 | J27: 17 | K27: 17 | L27: 0
A29: LANGUAGE | C29: 106 | D29: 106 | E29: 0 | F29: 0 | H29: =K29/J29% -> 100 | I29: =L29/J29% -> 0 | J29: 106 | K29: 106
A30: LEPCHA | B30: 0 | C30: =SUM(B30,D30,E30,F30) -> 2 | D30: 2 | E30: 0 | F30: 0 | G30: =SUM(B30,E30,F30) -> 0 | H30: =K30/J30% -> 100 | I30: =L30/J30% -> 0 | J30: 2 | K30: 2 | L30: 0
A31: BHUTIA | B31: 0 | C31: =SUM(B31,D31,E31,F31) -> 2 | D31: 2 | E31: 0 | F31: 0 | G31: =SUM(B31,E31,F31) -> 0 | H31: =K31/J31% -> 100 | I31: =L31/J31% -> 0 | J31: 2 | K31: 2 | L31: 0
A32: HINDI | B32: 1 | C32: =SUM(B32,D32,E32,F32) -> 16 | D32: 15 | E32: 0 | F32: 0 | G32: =SUM(B32,E32,F32) -> 1 | H32: =K32/J32% -> 93.75 | I32: =L32/J32% -> 6.25 | J32: 16 | K32: 15 | L32: 1
A33: NEPALI | B33: 0 | C33: =SUM(B33,D33,E33,F33) -> 85 | D33: 85 | E33: 0 | F33: 0 | G33: =SUM(B33,E33,F33) -> 0 | H33: =K33/J33% -> 100 | I33: =L33/J33% -> 0 | J33: 85 | K33: 85 | L33: 0
A34: ENGLISH | B34: 0 | C34: =SUM(B34,D34,E34,F34) -> 106 | D34: 106 | E34: 0 | F34: 0 | G34: =SUM(B34,E34,F34) -> 0 | H34: =K34/J34% -> 100 | I34: =L34/J34% -> 0 | J34: 106 | K34: 106 | L34: 0
A36: PE | B36: 0 | C36: =SUM(B36,D36,E36,F36) -> 71 | D36: 71 | E36: 0 | F36: 0 | G36: =SUM(B36,E36,F36) -> 0 | H36: =K36/J36% -> 100 | I36: =L36/J36% -> 0 | J36: 71 | K36: 71 | L36: 0

Sheet SUBJECT CODE
A1: S.NO | B1: CODE | C1: SUBJECT
A2: 1 | B2: 27 | C2: History
A3: 2 | B3: 28 | C3: Political Science
A4: 3 | B4: 29 | C4: Geography
A5: 4 | B5: 30 | C5: Economics
A6: 5 | B6: 39 | C6: Sociology
A7: 6 | B7: 301 | C7: English Core
A8: 7 | B8: 48 | C8: Physical Education
A9: 8 | B9: 42 | C9: Physics
A10: 9 | B10: 43 | C10: Chemistry
A11: 10 | B11: 44 | C11: Biology
A12: 11 | B12: 41 | C12: Mathematics
A13: 12 | B13: 55 | C13: Accountancy
... A25: 24 | B25: 195 | C25: BHUTIA
A26: 25
A27: 26
A28: 27
A29: 28
A30: 29
